{"text_format":"3","workbook":"xlsx","n_sheets":22,"sheets":["ТИТУЛ","ОГЛАВЛЕНИЕ","СК-1","СК-2","ИТОГ СК","ПР-1","ПР-2","ПР-3","ИТОГ ПР","РР-1","РР-2","РР-3","РР-4","ИТОГ РР","ХЭ-1","ХЭ-2","ХЭ-3","ХЭ-4","ИТОГ ХЭ","ФР","ИТОГ ФР","ИТОГОВАЯ ПО ОО"],"not_rendered":{"charts":48,"images":24},"read":"whole","date_system":"1900"}

{"sheet":"ТИТУЛ","index":0,"n_rows":73,"n_cols":3,"rows_kept":73,"merged":[[0,0,0,8],[1,0,1,8],[2,0,2,8],[9,0,10,8],[12,2,12,6],[14,1,14,7],[15,1,15,7],[23,0,23,2],[23,3,23,6],[24,0,24,2],[24,3,24,6],[25,0,26,2],[25,3,25,6],[26,3,26,6],[41,0,41,8],[44,0,44,8],[46,0,46,8],[48,0,48,8],[50,0,50,8],[52,0,52,8],[54,0,54,8],[56,0,56,8],[58,0,58,8],[60,0,60,8],[62,0,62,8],[64,0,64,8],[66,0,66,8],[68,0,68,8],[70,0,70,8],[72,0,72,8]]}
["Муниципальное автономное дошкольное образовательное учреждение"]
["детский сад комбинированного вида №24 \"Березка\" г. Белебея"]
["муниципального района Белебеевский район Республики Башкортостан"]
[]
[]
[]
[]
[]
[]
["Диагностика индивидуального развития детей  3-4 лет"]
[]
[]
[null,null,"20__-20___ учебный год"]
[]
[null,"В соответствии с Федеральной образовательной программой дошкольного образования"]
[null,"Приказ Министерства просвещения РФ от 25.11.2022г."]
[]
[]
[]
[]
[]
["Педагоги:"]
[]
["Воспитатель:"]
["Воспитатель:"]
["Музыкальный руководитель:"]
{"$rows_empty":15}
["Планируемые образовательные результаты к четырем годам:"]
[]
[]
["ребенок демонстрирует положительное отношение к разнообразным физическим упражнениям, проявляет избирательный интерес к отдельным двигательным действиям (бросание и ловля, ходьба, бег, прыжки) и подвижным играм;"]
[]
["ребенок проявляет элементы самостоятельности в двигательной деятельности, с интересом включается в подвижные игры, стремится к выполнению правил и основных ролей в игре, выполняет простейшие правила построения и перестроения, выполняет ритмические движения под музыку;"]
[]
["ребенок демонстрирует достаточную координацию движений при выполнении упражнений, сохраняет равновесие при ходьбе, беге, прыжках, способен реагировать на сигналы, переключаться с одного движения на другое, выполнять движения в общем для всех темпе;"]
[]
["ребенок владеет культурно-гигиенические навыки: умывание, одевание и т.п., соблюдает требования гигиены, имеет первичные представления о факторах, положительно влияющих на здоровье;"]
[]
["ребенок проявляет доверие к миру, положительно оценивает себя, говорит о себе в первом лице;"]
[]
["ребенок откликается эмоционально на ярко выраженное состояние близких и сверстников по показу и побуждению взрослых; дружелюбно настроен, спокойно играет рядом с детьми;"]
[]
["ребенок владеет элементарными нормами и правилами поведения, связанными с определенными разрешениями и запретами («можно», «нельзя»), демонстрирует стремление к положительным поступкам;"]
[]
["ребенок включается охотно в совместную деятельность со взрослым, подражает его действиям, отвечает на вопросы взрослого и комментирует его действия в процессе совместной деятельности;"]
[]
["ребенок демонстрирует интерес к сверстникам, к взаимодействию в игре, в повседневном общении и бытовой деятельности, владеет элементарными средствами общения в процессе взаимодействия со сверстниками;"]
[]
["ребенок владеет игровыми действиями с игрушками и предметами-заместителями, разворачивает игровой сюжет из нескольких эпизодов;"]
[]
["ребенок проявляет интерес к правилам безопасного поведения; осваивает безопасные способы обращения со знакомыми предметами ближайшего окружения;"]
[]
["ребенок принимает участие в несложной совместной познавательной деятельности, принимает цель и основные задачи деятельности, образец и инструкцию взрослого, стремится завершить начатое действие;"]
[]
["ребенок демонстрирует познавательную активность в деятельности, проявляет эмоции удивления в процессе познания, отражает в общении и совместной деятельности со взрослыми и сверстниками, полученные представления о предметах и объектах ближайшего окружения, задает вопросы констатирующего характера; "]
[]
["ребенок проявляет интерес к миру, потребность в познавательном общении со взрослыми; демонстрирует стремление к наблюдению, сравнению, обследованию свойств и качеств предметов, к простейшему экспериментированию;"]
[]
["ребенок демонстрирует умения вступать в речевое общение со знакомыми взрослыми: понимает обращенную к нему речь, отвечает на вопросы, используя простые распространенные предложения; проявляет речевую активность в общении со сверстником; здоровается и прощается с воспитателем и детьми, благодарит за обед, выражает просьбу, узнает содержание прослушанных произведений по иллюстрациям, эмоционально откликается; совместно со взрослым пересказывает знакомые сказки, читает короткие стихи."]

{"sheet":"ОГЛАВЛЕНИЕ","index":1,"n_rows":36,"n_cols":2,"rows_kept":36,"merged":[[0,1,0,7],[1,1,1,7],[3,1,3,7],[4,0,4,8],[5,0,6,0],[5,1,6,7],[7,1,7,7],[8,1,8,7],[9,1,9,7],[10,0,10,8],[11,1,11,7],[12,1,12,7],[13,1,13,7],[14,1,14,7],[15,0,15,8],[16,1,16,7],[17,1,17,7],[18,1,18,7],[19,1,19,7],[20,1,20,7],[21,1,21,7],[22,1,22,7],[23,0,23,8],[24,1,24,7],[25,1,25,7],[26,1,26,7],[27,1,27,7],[28,1,28,7],[29,1,29,7],[30,0,30,8],[31,1,31,7],[32,1,32,7],[33,1,33,7],[35,1,35,7]]}
[null,"ОГЛАВЛЕНИЕ:"]
[null,"Кликнув мышкой по соответствующему названию, вы автоматически перейдете в нужный раздел."]
[]
["наименование вкладки","ТИТУЛЬНЫЙ ЛИСТ"]
["Образовательная область \"Социально-коммуникативное развитие\""]
["СК-1","НАПРАВЛЕНИЕ 1,2. СОЦИАЛЬНЫЕ ОТНОШЕНИЯ. ФОРМИРОВАНИЕ ОСНОВ ГРАЖДАНСТВЕННОСТИ И ПАТРИОТИЗМА"]
[]
["СК-2","НАПРАВЛЕНИЕ 3. ТРУДОВОЕ ВОСПИТАНИЕ"]
[null,"НАПРАВЛЕНИЕ 4. ФОРМИРОВАНИЕ ОСНОВ БЕЗОПАСНОГО ПОВЕДЕНИЯ"]
["ИТОГ СК","Обобщение результатов педагогической диагностики по направлениям ОО \"Социально-коммуникативное развитие\""]
["Образовательная область \"Познавательное развитие\""]
["ПР-1","НАПРАВЛЕНИЕ 1. СЕНСОРНЫЕ ЭТАЛОНЫ И ПОЗНАВАТЕЛЬНЫЕ ДЕЙСТВИЯ."]
["ПР-2","НАПРАВЛЕНИЕ 2. МАТЕМАТИЧЕСКИЕ ПРЕДСТАВЛЕНИЯ"]
["ПР-3","НАПРАВЛЕНИЕ 3.  ОКРУЖАЮЩИЙ МИР. ПРИРОДА"]
["ИТОГ -ПР","Обобщение результатов педагогической диагностики по направлениям ОО \"Познавательное развитие\""]
["Образовательная область \"Речевое  развитие\""]
["РР-1","НАПРАВЛЕНИЕ I. ФОРМИРОВАНИЕ СЛОВАРЯ"]
[null,"НАПРАВЛЕНИЕ 2. ЗВУКОВАЯ КУЛЬТУРА РЕЧИ."]
["РР-2","НАПРАВЛЕНИЕ 3. ГРАММАТИЧЕСКИЙ СТРОЙ РЕЧИ. "]
["РР-3","НАПРАВЛЕНИЕ 4. СВЯЗНАЯ РЕЧЬ"]
["РР-4","НАПРАВЛЕНИЕ 5. ПОДГОТОВКА К ОБУЧЕНИЮ ГРАМОТЕ"]
[null,"НАПРАВЛЕНИЕ 6. ИНТЕРЕС К ХУДОЖЕСТВЕННОЙ ЛИТЕРАТУРЕ"]
["ИТОГ РР","Обобщение результатов педагогической диагностики по направлениям ОО \"Речевое развитие\""]
["Образовательная область \"Художественно-эстетическое развитие\""]
["ХЭ-1","НАПРАВЛЕНИЕ I. ПРИОБЩЕНИЕ К ИСКУССТВУ"]
[null,"НАПРАВЛЕНИЕ 2. ИЗОБРАЗИТЕЛЬНАЯ ДЕЯТЕЛЬНОСТЬ"]
["ХЭ-2","НАПРАВЛЕНИЕ 3. КОНСТРУКТИВНАЯ ДЕЯТЕЛЬНОСТЬ"]
["ХЭ-3","НАПРАВЛЕНИЕ 4. МУЗЫКАЛЬНАЯ ДЕЯТЕЛЬНОСТЬ"]
["ХЭ-4","НАПРАВЛЕНИЕ 5. ТЕАТРАЛИЗОВАННАЯ И КУЛЬТУРНО-ДОСУГОВАЯ ДЕЯТЕЛЬНОСТЬ"]
["ИТОГ ХЭ","Обобщение результатов педагогической диагностики по направлениям ОО \"Художественно-эстетическое развитие\""]
["Образовательная область \"Физическое развитие\""]
["ФР-1","НАПРАВЛЕНИЕ I. ОСНОВНАЯ ГИМНАСТИКА. ПОДВИЖНЫЕ И СПОРТИВНЫЕ ИГРЫ. СПОРТИВНЫЕ УПРАЖНЕНИЯ"]
[null,"НАПРАВЛЕНИЕ 2. ФОРМИРОВАНИЕ ОСНОВ ЗДОРОВОГО ОБРАЗА ЖИЗНИ. АКТИВНЫЙ ОТДЫХ"]
["ИТОГ ФР","Обобщение результатов педагогической диагностики по направлениям ОО «Физическое развитие»"]
[]
["ОБЩИЙ ИТОГ","Обобщение результатов педагогической диагностики по всем образовательным областям "]

{"sheet":"СК-1","index":2,"n_rows":41,"n_cols":26,"rows_kept":41,"merged":[[0,0,0,25],[1,0,1,25],[2,0,4,0],[2,2,3,3],[2,4,3,5],[2,6,3,7],[2,8,3,9],[2,10,3,11],[2,12,3,13],[2,14,3,15],[2,16,3,17],[2,18,3,19],[2,20,3,21],[2,22,3,23],[2,24,3,25],[3,1,4,1],[31,1,32,1],[31,2,32,2],[31,3,32,3],[31,4,32,4],[31,5,32,5],[31,7,32,7],[31,8,32,8],[31,9,32,9],[31,10,32,10],[37,1,38,1],[37,2,38,2],[37,3,38,3],[37,4,38,4],[37,5,38,5],[37,7,38,7],[37,8,38,8],[37,9,38,9],[37,10,38,10]]}
["Образовательная область «Социально-коммуникативное развитие»"]
["НАПРАВЛЕНИЕ 1. СОЦИАЛЬНЫЕ ОТНОШЕНИЯ.                                                                                                                                                                                             НАПРАВЛЕНИЕ 2. ФОРМИРОВАНИЕ ОСНОВ ГРАЖДАНСТВЕННОСТИ И ПАТРИОТИЗМА"]
["№п/п","ОГЛАВЛЕНИЕ","Умеет называть свое имя, возраст. Говорит о себе в первом лице.",null,"Различает и понимает ярко выраженные эмоции (радость, печаль, грусть, гнев, страх, удивление)",null,"Имитирует мимику, движения, интонацию героев литературных произведений",null,"Имеет представление о действиях, в которых проявляются доброе отношение и забота о членах семьи, близком окружении, животных, растениях",null,"Устанавливает положительные контакты между сверстниками, основанных на общих интересах к действиям с игрушками, предметами и взаимной симпатии",null,"Старается соблюдать правила поведения в общественных местах, в общении со взрослыми и сверстниками",null,"Выполняет элементарные правила культуры поведения в ДОО",null,"среднее значение ",null,"Знает название населенного пункта, в котором живет",null,"Имеет представление о малой родине",null,"Может назвать некоторые достопримечательности родного города (поселка)",null,"среднее значение"]
[null,"ФИ ребенка"]
[null,null,"н.г.","к.г.","н.г.","к.г.","н.г.","к.г.","н.г.","к.г.","н.г.","к.г.","н.г.","к.г.","н.г.","к.г.","н.г.","к.г.","н.г.","к.г.","н.г.","к.г.","н.г.","к.г.","н.г.","к.г."]
[1,"Иванов",2,3,2,3,2,3,2,3,2,3,2,3,3,4,{"$f":"(C6+E6+G6+I6+K6+M6+O6)/7","v":{"v":2.142857142857143,"d":"2.14"}},{"$f":"(D6+F6+H6+J6+L6+N6+P6)/7","v":{"v":3.142857142857143,"d":"3.14"}},2,3,2,3,3,4,{"$f":"(S6+U6+W6)/3","v":{"v":2.3333333333333335,"d":"2.33"}},{"$f":"(T6+V6+X6)/3","v":{"v":3.3333333333333335,"d":"3.33"}}]
[2,"Петров",{"$nulls":14},{"$f":"(C7+E7+G7+I7+K7+M7+O7)/7","v":{"v":0,"d":"0.00"}},{"$f":"(D7+F7+H7+J7+L7+N7+P7)/7","v":{"v":0,"d":"0.00"}},{"$nulls":6},{"$f":"(S7+U7+W7)/3","v":{"v":0,"d":"0.00"}},{"$f":"(T7+V7+X7)/3","v":{"v":0,"d":"0.00"}}]
[3,"Сидоров",{"$nulls":14},{"v":0,"d":"0.00"},{"v":0,"d":"0.00"},{"$nulls":6},{"v":0,"d":"0.00"},{"v":0,"d":"0.00"}]
[4,{"$nulls":15},{"v":0,"d":"0.00"},{"v":0,"d":"0.00"},{"$nulls":6},{"v":0,"d":"0.00"},{"v":0,"d":"0.00"}]
[5,{"$nulls":15},{"v":0,"d":"0.00"},{"v":0,"d":"0.00"},{"$nulls":6},{"v":0,"d":"0.00"},{"v":0,"d":"0.00"}]
[6,{"$nulls":15},{"v":0,"d":"0.00"},{"v":0,"d":"0.00"},{"$nulls":6},{"v":0,"d":"0.00"},{"v":0,"d":"0.00"}]
[7,{"$nulls":15},{"v":0,"d":"0.00"},{"v":0,"d":"0.00"},{"$nulls":6},{"v":0,"d":"0.00"},{"v":0,"d":"0.00"}]
[8,{"$nulls":15},{"v":0,"d":"0.00"},{"v":0,"d":"0.00"},{"$nulls":6},{"v":0,"d":"0.00"},{"v":0,"d":"0.00"}]
[9,{"$nulls":15},{"v":0,"d":"0.00"},{"v":0,"d":"0.00"},{"$nulls":6},{"v":0,"d":"0.00"},{"v":0,"d":"0.00"}]
[10,{"$nulls":15},{"v":0,"d":"0.00"},{"v":0,"d":"0.00"},{"$nulls":6},{"v":0,"d":"0.00"},{"v":0,"d":"0.00"}]
[11,{"$nulls":15},{"v":0,"d":"0.00"},{"v":0,"d":"0.00"},{"$nulls":6},{"v":0,"d":"0.00"},{"v":0,"d":"0.00"}]
[12,{"$nulls":15},{"v":0,"d":"0.00"},{"v":0,"d":"0.00"},{"$nulls":6},{"v":0,"d":"0.00"},{"v":0,"d":"0.00"}]
[13,{"$nulls":15},{"v":0,"d":"0.00"},{"v":0,"d":"0.00"},{"$nulls":6},{"v":0,"d":"0.00"},{"v":0,"d":"0.00"}]
[14,{"$nulls":15},{"v":0,"d":"0.00"},{"v":0,"d":"0.00"},{"$nulls":6},{"v":0,"d":"0.00"},{"v":0,"d":"0.00"}]
[15,{"$nulls":15},{"v":0,"d":"0.00"},{"v":0,"d":"0.00"},{"$nulls":6},{"v":0,"d":"0.00"},{"v":0,"d":"0.00"}]
[16,{"$nulls":15},{"v":0,"d":"0.00"},{"v":0,"d":"0.00"},{"$nulls":6},{"v":0,"d":"0.00"},{"v":0,"d":"0.00"}]
[17,{"$nulls":15},{"v":0,"d":"0.00"},{"v":0,"d":"0.00"},{"$nulls":6},{"v":0,"d":"0.00"},{"v":0,"d":"0.00"}]
[18,{"$nulls":15},{"v":0,"d":"0.00"},{"v":0,"d":"0.00"},{"$nulls":6},{"v":0,"d":"0.00"},{"v":0,"d":"0.00"}]
[19,{"$nulls":15},{"v":0,"d":"0.00"},{"v":0,"d":"0.00"},{"$nulls":6},{"v":0,"d":"0.00"},{"v":0,"d":"0.00"}]
[20,{"$nulls":15},{"v":0,"d":"0.00"},{"v":0,"d":"0.00"},{"$nulls":6},{"v":0,"d":"0.00"},{"v":0,"d":"0.00"}]
[21,{"$nulls":15},{"v":0,"d":"0.00"},{"v":0,"d":"0.00"},{"$nulls":6},{"v":0,"d":"0.00"},{"v":0,"d":"0.00"}]
[22,{"$nulls":15},{"v":0,"d":"0.00"},{"v":0,"d":"0.00"},{"$nulls":6},{"v":0,"d":"0.00"},{"v":0,"d":"0.00"}]
[23,{"$nulls":15},{"v":0,"d":"0.00"},{"v":0,"d":"0.00"},{"$nulls":6},{"v":0,"d":"0.00"},{"v":0,"d":"0.00"}]
[24,{"$nulls":15},{"v":0,"d":"0.00"},{"v":0,"d":"0.00"},{"$nulls":6},{"v":0,"d":"0.00"},{"v":0,"d":"0.00"}]
[null,"среднее значение:",{"$f":"(C6+C7+C8+C9+C10+C11+C12+C13+C14+C15+C16+C17+C18+C19+C20+C21+C22+C23+C24+C25+C26+C27+C28+C29)/COUNTA($B$6:$B$29)","v":{"v":0.6666666666666666,"d":"0.67"}},{"$f":"(D6+D7+D8+D9+D10+D11+D12+D13+D14+D15+D16+D17+D18+D19+D20+D21+D22+D23+D24+D25+D26+D27+D28+D29)/COUNTA($B$6:$B$29)","v":{"v":1,"d":"1.00"}},{"v":0.6666666666666666,"d":"0.67"},{"v":1,"d":"1.00"},{"v":0.6666666666666666,"d":"0.67"},{"v":1,"d":"1.00"},{"v":0.6666666666666666,"d":"0.67"},{"v":1,"d":"1.00"},{"v":0.6666666666666666,"d":"0.67"},{"v":1,"d":"1.00"},{"v":0.6666666666666666,"d":"0.67"},{"v":1,"d":"1.00"},{"v":1,"d":"1.00"},{"v":1.3333333333333333,"d":"1.33"},{"v":0.7142857142857143,"d":"0.71"},{"v":1.0476190476190477,"d":"1.05"},{"$f":"(S6+S7+S8+S9+S10+S11+S12+S13+S14+S15+S16+S17+S18+S19+S20+S21+S22+S23+S24+S25+S26+S27+S28+S29)/COUNTA($B$6:$B$29)","v":{"v":0.6666666666666666,"d":"0.67"}},{"v":1,"d":"1.00"},{"v":0.6666666666666666,"d":"0.67"},{"v":1,"d":"1.00"},{"v":1,"d":"1.00"},{"v":1.3333333333333333,"d":"1.33"},{"v":0.7777777777777777,"d":"0.78"},{"v":1.111111111111111,"d":"1.11"}]
[null,"начало года",{"$nulls":4},"начало года"]
[null,null,"всего","норма","ниже нормы","низкий ",null,"всего","норма","ниже нормы","низкий "]
[]
[null,"количество детей",{"$f":"COUNTA($B$6:$B$29)","v":3},{"$f":"COUNTIF(Q6:Q29,\">=3,8\")","v":0},{"$f":"COUNTIFS(Q6:Q29,\"<3,7\",Q6:Q29,\">=2,3\")","v":0},{"$f":"COUNTIFS(Q6:Q29,\"<2,2\",Q6:Q29,\">0\")","v":1},"кол-во детей",{"$f":"COUNTA($B$6:$B$29)","v":3},{"$f":"COUNTIF(Y6:Y29,\">=3,8\")","v":0},{"$f":"COUNTIFS(Z6:Z29,\"<3,7\",Z6:Z29,\">=2,3\")","v":1},{"$f":"COUNTIFS(Y6:Y29,\"<2,2\",Y6:Y29,\">0\")","v":0}]
[null,"%",100,{"$f":"D34*C35/C34","v":0},{"$f":"E34*C35/C34","v":{"v":0,"d":"0.0"}},{"$f":"F34*C35/C34","v":{"v":33.333333333333336,"d":"33.3"}},"%",100,{"$f":"I34*H35/H34","v":0},{"$f":"J34*H35/H34","v":{"v":33.333333333333336,"d":"33.3"}},{"$f":"K34*H35/H34","v":{"v":0,"d":"0.0"}}]
[]
[null,"конец года",{"$nulls":4},"конец года"]
[null,null,"всего","норма","ниже нормы","низкий ",null,"всего","норма","ниже нормы","низкий "]
[]
[null,"количество детей",{"$f":"COUNTA($B$6:$B$29)","v":3},{"$f":"COUNTIF(Z6:Z29,\">=3,8\")","v":0},{"$f":"COUNTIFS(Z6:Z29,\"<3,7\",Z6:Z29,\">=2,3\")","v":1},{"$f":"COUNTIFS(Z6:Z29,\"<2,2\",Z6:Z29,\">0\")","v":0},"кол-во детей",{"$f":"COUNTA($B$6:$B$29)","v":3},{"$f":"COUNTIF(Z6:Z29,\">=3,8\")","v":0},{"$f":"COUNTIFS(Z6:Z29,\"<3,7\",Z6:Z29,\">=2,3\")","v":1},{"$f":"COUNTIFS(Z6:Z29,\"<2,2\",Z6:Z29,\">0\")","v":0}]
[null,"%",100,{"$f":"D40*C41/C40","v":{"v":0,"d":"0.0"}},{"$f":"E40*C41/C40","v":{"v":33.333333333333336,"d":"33.3"}},{"$f":"F40*C41/C40","v":{"v":0,"d":"0.0"}},"%",100,{"$f":"I40*H41/H40","v":{"v":0,"d":"0.0"}},{"$f":"J40*H41/H40","v":{"v":33.333333333333336,"d":"33.3"}},{"$f":"K40*H41/H40","v":{"v":0,"d":"0.0"}}]

{"sheet":"СК-2","index":3,"n_rows":38,"n_cols":20,"rows_kept":38,"merged":[[0,5,0,6],[0,9,0,19],[2,0,4,0],[2,1,4,1],[2,2,3,3],[2,4,3,5],[2,6,3,7],[2,8,3,9],[2,10,3,11],[2,12,3,13],[2,14,3,15],[2,16,3,17],[2,18,3,19],[30,10,30,12],[34,10,34,12],[37,10,37,12]]}
["НАПРАВЛЕНИЕ 3. ТРУДОВОЕ ВОСПИТАНИЕ",{"$nulls":4},"ОГЛАВЛЕНИЕ",{"$nulls":3},"НАПРАВЛЕНИЕ 4. ФОРМИРОВАНИЕ ОСНОВ БЕЗОПАСНОСНОГО ПОВЕДЕНИЯ"]
[]
["№п/п","ФИ ребенка","Имеет представления о видах хозяйственно-бытового труда (мытье посуды, уборка помещений)",null,"Березно относится к предметам и игрушкам как результатам труда взрослых",null,"Умеет одеваться, раздеваться, умываться самостоятельно",null,"среднее значение ",null,"Проявляет интерес к правилам безопасного поведения в быту",null,"Старается соблюдать правила поведения в группе, в общественных местах, в природе",null,"Знает почему нельзя пользования самостоятельно бытовыми приборами (ножи, иголки, ножницы, лекартсва, спички)",null,"Знает и соблюдает правила дорожного движения и поведения на улице",null,"среднее значение "]
[]
[null,null,"н.г.","к.г.","н.г.","к.г.","н.г.","к.г.","н.г.","к.г.","н.г.","к.г.","н.г.","к.г.","н.г.","к.г.","н.г.","к.г.","н.г.","к.г."]
[1,"Иванов",3,4,3,4,2,3,{"$f":"(C6+E6+G6)/3","v":{"v":2.6666666666666665,"d":"2.67"}},{"$f":"(D6+F6+H6)/3","v":{"v":3.6666666666666665,"d":"3.67"}},2,3,2,3,3,4,3,4,{"$f":"(K6+M6+O6+Q6)/4","v":{"v":2.5,"d":"2.50"}},{"$f":"(L6+N6+P6+R6)/4","v":{"v":3.5,"d":"3.50"}}]
[2,"Петров",{"$nulls":6},{"$f":"(C7+E7+G7)/3","v":{"v":0,"d":"0.00"}},{"$f":"(D7+F7+H7)/3","v":{"v":0,"d":"0.00"}},{"$nulls":8},{"$f":"(K7+M7+O7+Q7)/4","v":{"v":0,"d":"0.00"}},{"$f":"(L7+N7+P7+R7)/4","v":{"v":0,"d":"0.00"}}]
[3,"Сидоров",{"$nulls":6},{"v":0,"d":"0.00"},{"v":0,"d":"0.00"},{"$nulls":8},{"v":0,"d":"0.00"},{"v":0,"d":"0.00"}]
[4,{"$nulls":7},{"v":0,"d":"0.00"},{"v":0,"d":"0.00"},{"$nulls":8},{"v":0,"d":"0.00"},{"v":0,"d":"0.00"}]
[5,{"$nulls":7},{"v":0,"d":"0.00"},{"v":0,"d":"0.00"},{"$nulls":8},{"v":0,"d":"0.00"},{"v":0,"d":"0.00"}]
[6,{"$nulls":7},{"v":0,"d":"0.00"},{"v":0,"d":"0.00"},{"$nulls":8},{"v":0,"d":"0.00"},{"v":0,"d":"0.00"}]
[7,{"$nulls":7},{"v":0,"d":"0.00"},{"v":0,"d":"0.00"},{"$nulls":8},{"v":0,"d":"0.00"},{"v":0,"d":"0.00"}]
[8,{"$nulls":7},{"v":0,"d":"0.00"},{"v":0,"d":"0.00"},{"$nulls":8},{"v":0,"d":"0.00"},{"v":0,"d":"0.00"}]
[9,{"$nulls":7},{"v":0,"d":"0.00"},{"v":0,"d":"0.00"},{"$nulls":8},{"v":0,"d":"0.00"},{"v":0,"d":"0.00"}]
[10,{"$nulls":7},{"v":0,"d":"0.00"},{"v":0,"d":"0.00"},{"$nulls":8},{"v":0,"d":"0.00"},{"v":0,"d":"0.00"}]
[11,{"$nulls":7},{"v":0,"d":"0.00"},{"v":0,"d":"0.00"},{"$nulls":8},{"v":0,"d":"0.00"},{"v":0,"d":"0.00"}]
[12,{"$nulls":7},{"v":0,"d":"0.00"},{"v":0,"d":"0.00"},{"$nulls":8},{"v":0,"d":"0.00"},{"v":0,"d":"0.00"}]
[13,{"$nulls":7},{"v":0,"d":"0.00"},{"v":0,"d":"0.00"},{"$nulls":8},{"v":0,"d":"0.00"},{"v":0,"d":"0.00"}]
[14,{"$nulls":7},{"v":0,"d":"0.00"},{"v":0,"d":"0.00"},{"$nulls":8},{"v":0,"d":"0.00"},{"v":0,"d":"0.00"}]
[15,{"$nulls":7},{"v":0,"d":"0.00"},{"v":0,"d":"0.00"},{"$nulls":8},{"v":0,"d":"0.00"},{"v":0,"d":"0.00"}]
[16,{"$nulls":7},{"v":0,"d":"0.00"},{"v":0,"d":"0.00"},{"$nulls":8},{"v":0,"d":"0.00"},{"v":0,"d":"0.00"}]
[17,{"$nulls":7},{"v":0,"d":"0.00"},{"v":0,"d":"0.00"},{"$nulls":8},{"v":0,"d":"0.00"},{"v":0,"d":"0.00"}]
[18,{"$nulls":7},{"v":0,"d":"0.00"},{"v":0,"d":"0.00"},{"$nulls":8},{"v":0,"d":"0.00"},{"v":0,"d":"0.00"}]
[19,{"$nulls":7},{"v":0,"d":"0.00"},{"v":0,"d":"0.00"},{"$nulls":8},{"v":0,"d":"0.00"},{"v":0,"d":"0.00"}]
[20,{"$nulls":7},{"v":0,"d":"0.00"},{"v":0,"d":"0.00"},{"$nulls":8},{"v":0,"d":"0.00"},{"v":0,"d":"0.00"}]
[21,{"$nulls":7},{"v":0,"d":"0.00"},{"v":0,"d":"0.00"},{"$nulls":8},{"v":0,"d":"0.00"},{"v":0,"d":"0.00"}]
[22,{"$nulls":7},{"v":0,"d":"0.00"},{"v":0,"d":"0.00"},{"$nulls":8},{"v":0,"d":"0.00"},{"v":0,"d":"0.00"}]
[23,{"$nulls":7},{"v":0,"d":"0.00"},{"v":0,"d":"0.00"},{"$nulls":8},{"v":0,"d":"0.00"},{"v":0,"d":"0.00"}]
[24,{"$nulls":7},{"v":0,"d":"0.00"},{"v":0,"d":"0.00"},{"$nulls":8},{"v":0,"d":"0.00"},{"v":0,"d":"0.00"}]
[null,"среднее значение:",{"$f":"(C6+C7+C8+C9+C10+C11+C12+C13+C14+C15+C16+C17+C18+C19+C20+C21+C22+C23+C24+C25+C26+C27+C28+C29)/COUNTA($B$8:$B$30)","v":{"v":1.5,"d":"1.50"}},{"v":2,"d":"2.00"},{"v":1.5,"d":"1.50"},{"v":2,"d":"2.00"},{"v":1,"d":"1.00"},{"v":1.5,"d":"1.50"},{"v":1.3333333333333333,"d":"1.33"},{"v":1.8333333333333333,"d":"1.83"},{"$f":"(K6+K7+K8+K9+K10+K11+K12+K13+K14+K15+K16+K17+K18+K19+K20+K21+K22+K23+K24+K25+K26+K27+K28+K29)/COUNTA($B$6:$B$29)","v":{"v":0.6666666666666666,"d":"0.67"}},{"$f":"(L6+L7+L8+L9+L10+L11+L12+L13+L14+L15+L16+L17+L18+L19+L20+L21+L22+L23+L24+L25+L26+L27+L28+L29)/COUNTA($B$6:$B$29)","v":{"v":1,"d":"1.00"}},{"v":0.6666666666666666,"d":"0.67"},{"v":1,"d":"1.00"},{"v":1,"d":"1.00"},{"v":1.3333333333333333,"d":"1.33"},{"v":1,"d":"1.00"},{"v":1.3333333333333333,"d":"1.33"},{"v":0.8333333333333333,"d":"0.83"},{"v":1.1666666666666665,"d":"1.17"}]
[null,"начало года",{"$nulls":8},"начало года"]
[null,null,"всего","норма","ниже нормы","низкий ",{"$nulls":7},"всего","норма","ниже нормы","низкий "]
[null,"количество детей",{"$f":"COUNTA($B$6:$B$29)","v":3},{"$f":"COUNTIF(I6:I29,\">=3,8\")","v":0},{"$f":"COUNTIFS(I6:I29,\"<3,7\",I6:I29,\">=2,3\")","v":1},{"$f":"COUNTIFS(I6:I29,\"<2,2\",I6:I29,\">0\")","v":0},{"$nulls":4},"количество детей",null,null,{"$f":"COUNTA(#REF!)","v":1},{"$f":"COUNTIF(S6:S29,\">=3,8\")","v":0},{"$f":"COUNTIFS(S6:S29,\"<3,7\",S6:S29,\">=2,3\")","v":1},{"$f":"COUNTIFS(S6:S29,\"<2,2\",S6:S29,\">0\")","v":0}]
[null,"%",100,{"$f":"D33*C34/C33","v":0},{"$f":"E33*C34/C33","v":{"v":33.333333333333336,"d":"33.3"}},{"$f":"F33*C34/C33","v":{"v":0,"d":"0.0"}},{"$nulls":4},"%",null,null,100,{"$f":"O33*N34/N33","v":0},{"$f":"P33*N34/N33","v":{"v":100,"d":"100.0"}},{"$f":"Q33*N34/N33","v":{"v":0,"d":"0.0"}}]
[null,"конец года",{"$nulls":8},"конец года"]
[null,null,"всего","норма","ниже нормы","низкий ",{"$nulls":7},"всего","норма","ниже нормы","низкий "]
[null,"количество детей",{"$f":"COUNTA($B$6:$B$29)","v":3},{"$f":"COUNTIF(J6:J29,\">=3,8\")","v":0},{"$f":"COUNTIFS(J6:J29,\"<3,7\",J6:J29,\">=2,3\")","v":1},{"$f":"COUNTIFS(J6:J29,\"<2,2\",J6:J29,\">0\")","v":0},{"$nulls":4},"количество детей",null,null,{"$f":"COUNTA(#REF!)","v":1},{"$f":"COUNTIF(T6:T29,\">=3,8\")","v":0},{"$f":"COUNTIFS(T6:T29,\"<3,7\",T6:T29,\">=2,3\")","v":1},{"$f":"COUNTIFS(T6:T29,\"<2,2\",T6:T29,\">0\")","v":0}]
[null,"%",100,{"$f":"D37*C38/C37","v":{"v":0,"d":"0.0"}},{"$f":"E37*C38/C37","v":{"v":33.333333333333336,"d":"33.3"}},{"$f":"F37*C38/C37","v":{"v":0,"d":"0.0"}},{"$nulls":4},"%",null,null,100,{"$f":"O37*N38/N37","v":{"v":0,"d":"0.0"}},{"$f":"P37*N38/N37","v":{"v":100,"d":"100.0"}},{"$f":"Q37*N38/N37","v":{"v":0,"d":"0.0"}}]

{"sheet":"ИТОГ СК","index":4,"n_rows":45,"n_cols":7,"rows_kept":45,"merged":[[0,0,0,7],[36,0,36,1],[36,2,36,7],[37,2,37,7],[38,2,38,7],[39,2,39,7],[40,2,40,7],[41,2,41,7],[42,2,42,7]]}
["Обобщение результатов педагогической диагностики по направлениям                                                     ОО «Социально-коммуникативное развитие»"]
[]
[null,"ОГЛАВЛЕНИЕ","Формирование общепринятых норм поведения","Формирование основ гражданственности и патриотизма","Трудовое воспитание","Формирование основ безопасного поведения","Средний балл/уровень (итоговый)"]
[null,null,1,2,3,4,"ср.ур."]
[null,"начало",{"$f":"'СК-1'!Q30","v":{"v":0.7142857142857143,"d":"0.71"}},{"$f":"'СК-1'!Y30","v":{"v":0.7777777777777777,"d":"0.78"}},{"$f":"'СК-2'!I30","v":{"v":1.3333333333333333,"d":"1.33"}},{"$f":"'СК-2'!S30","v":{"v":0.8333333333333333,"d":"0.83"}},{"$f":"(C5+D5+E5+F5)/4","v":{"v":0.9146825396825395,"d":"0.91"}}]
[null,"конец",{"$f":"'СК-1'!Z30","v":{"v":1.111111111111111,"d":"1.11"}},{"$f":"'СК-1'!Z30","v":{"v":1.111111111111111,"d":"1.11"}},{"$f":"'СК-2'!J30","v":{"v":1.8333333333333333,"d":"1.83"}},{"$f":"'СК-2'!T30","v":{"v":1.1666666666666665,"d":"1.17"}},{"$f":"(C6+D6+E6+F6)/4","v":{"v":1.3055555555555554,"d":"1.31"}}]
{"$rows_empty":29}
["ВЫВОДЫ:"]
["Начало учебного года:"]
{"$rows_empty":7}
["Конец учебного года:"]

{"sheet":"ПР-1","index":5,"n_rows":40,"n_cols":12,"rows_kept":40,"merged":[[0,0,0,11],[1,10,1,11],[2,0,4,0],[2,1,4,1],[2,2,3,3],[2,4,3,5],[2,6,3,7],[2,8,3,9],[2,10,3,11]]}
["Образовательная область «Познавательное развитие»"]
["НАПРАВЛЕНИЕ 1. СЕНСОРНЫЕ ЭТАЛОНЫ И ПОЗНАВАТЕЛЬНЫЕ ДЕЙСТВИЯ. ",{"$nulls":9},"ОГЛАВЛЕНИЕ"]
["№п/п","ФИ ребенка","Различает и называет цвета (красный, синий, зеленый, желтый, белый, черный)",null,"Называет оттенки цветов (розовый, голубой, серый).",null,"Различает круг, квадрат, треугольник, предметы, имеющие углы и круглую форму",null,"Ориентируется в помещениях детского сада",null,"среднее значение "]
[]
[null,null,"н.г.","к.г.","н.г.","к.г.","н.г.","к.г.","н.г.","к.г.","н.г.","к.г."]
[1,"Иванов",2,3,2,3,4,5,3,4,{"$f":"(C6+E6+G6+I6)/4","v":2.75},{"$f":"(D6+F6+H6+J6)/4","v":3.75}]
[2,"Петров",{"$nulls":8},{"$f":"(C7+E7+G7+I7)/4","v":{"v":0,"d":"0.00"}},{"$f":"(D7+F7+H7+J7)/4","v":{"v":0,"d":"0.00"}}]
[3,"Сидоров",{"$nulls":8},{"v":0,"d":"0.00"},{"v":0,"d":"0.00"}]
[4,{"$nulls":9},{"v":0,"d":"0.00"},{"v":0,"d":"0.00"}]
[5,{"$nulls":9},{"v":0,"d":"0.00"},{"v":0,"d":"0.00"}]
[6,{"$nulls":9},{"v":0,"d":"0.00"},{"v":0,"d":"0.00"}]
[7,{"$nulls":9},{"v":0,"d":"0.00"},{"v":0,"d":"0.00"}]
[8,{"$nulls":9},{"v":0,"d":"0.00"},{"v":0,"d":"0.00"}]
[9,{"$nulls":9},{"v":0,"d":"0.00"},{"v":0,"d":"0.00"}]
[10,{"$nulls":9},{"v":0,"d":"0.00"},{"v":0,"d":"0.00"}]
[11,{"$nulls":9},{"v":0,"d":"0.00"},{"v":0,"d":"0.00"}]
[12,{"$nulls":9},{"v":0,"d":"0.00"},{"v":0,"d":"0.00"}]
[13,{"$nulls":9},{"v":0,"d":"0.00"},{"v":0,"d":"0.00"}]
[14,{"$nulls":9},{"v":0,"d":"0.00"},{"v":0,"d":"0.00"}]
[15,{"$nulls":9},{"v":0,"d":"0.00"},{"v":0,"d":"0.00"}]
[16,{"$nulls":9},{"v":0,"d":"0.00"},{"v":0,"d":"0.00"}]
[17,{"$nulls":9},{"v":0,"d":"0.00"},{"v":0,"d":"0.00"}]
[18,{"$nulls":9},{"v":0,"d":"0.00"},{"v":0,"d":"0.00"}]
[19,{"$nulls":9},{"v":0,"d":"0.00"},{"v":0,"d":"0.00"}]
[20,{"$nulls":9},{"v":0,"d":"0.00"},{"v":0,"d":"0.00"}]
[21,{"$nulls":9},{"v":0,"d":"0.00"},{"v":0,"d":"0.00"}]
[22,{"$nulls":9},{"v":0,"d":"0.00"},{"v":0,"d":"0.00"}]
[23,{"$nulls":9},{"v":0,"d":"0.00"},{"v":0,"d":"0.00"}]
[24,{"$nulls":9},{"v":0,"d":"0.00"},{"v":0,"d":"0.00"}]
[null,"среднее значение:",{"$f":"(C6+C7+C8+C9+C10+C11+C12+C13+C14+C15+C16+C17+C18+C19+C20+C21+C22+C23+C24+C25+C26+C27+C28+C29)/COUNTA($B$6:$B$29)","v":{"v":0.6666666666666666,"d":"0.67"}},{"$f":"(D6+D7+D8+D9+D10+D11+D12+D13+D14+D15+D16+D17+D18+D19+D20+D21+D22+D23+D24+D25+D26+D27+D28+D29)/COUNTA($B$6:$B$29)","v":{"v":1,"d":"1.00"}},{"v":0.6666666666666666,"d":"0.67"},{"v":1,"d":"1.00"},{"v":1.3333333333333333,"d":"1.33"},{"v":1.6666666666666667,"d":"1.67"},{"v":1,"d":"1.00"},{"v":1.3333333333333333,"d":"1.33"},{"v":0.9166666666666666,"d":"0.92"},1.25]
[]
[null,"начало года"]
[null,null,"всего","норма","ниже нормы","низкий "]
[null,"количество детей",{"$f":"COUNTA($B$6:$B$29)","v":3},{"$f":"COUNTIF(K6:K29,\">=3,8\")","v":0},{"$f":"COUNTIFS(K6:K29,\"<3,7\",K6:K29,\">=2,3\")","v":1},{"$f":"COUNTIFS(K6:K29,\"<2,2\",K6:K29,\">0\")","v":0}]
[null,"%",100,{"$f":"D34*C35/C34","v":0},{"$f":"E34*C35/C34","v":{"v":33.333333333333336,"d":"33.3"}},{"$f":"F34*C35/C34","v":{"v":0,"d":"0.0"}}]
[]
[null,"конец года"]
[null,null,"всего","норма","ниже нормы","низкий "]
[null,"количество детей",{"$f":"COUNTA(B6:B29)","v":3},{"$f":"COUNTIF(L6:L29,\">=3,8\")","v":0},{"$f":"COUNTIFS(L6:L29,\"<3,7\",L6:L29,\">=2,3\")","v":0},{"$f":"COUNTIFS(L6:L29,\"<2,2\",L6:L29,\">0\")","v":0}]
[null,"%",100,{"$f":"D39*C40/C39","v":{"v":0,"d":"0.0"}},{"$f":"E39*C40/C39","v":{"v":0,"d":"0.0"}},{"$f":"F39*C40/C39","v":{"v":0,"d":"0.0"}}]

{"sheet":"ПР-2","index":6,"n_rows":40,"n_cols":14,"rows_kept":40,"merged":[[0,10,0,11],[2,0,4,0],[2,1,4,1],[2,2,3,3],[2,4,3,5],[2,6,3,7],[2,8,3,9],[2,10,3,11],[2,12,3,13]]}
["НАПРАВЛЕНИЕ 2. МАТЕМАТИЧЕСКИЕ ПРЕДСТАВЛЕНИЯ.",{"$nulls":9},"ОГЛАВЛЕНИЕ"]
[]
["№п/п","ФИ ребенка","Правильно определяет количественное соотношение двух групп предметов, понимает конкретный смысл слов «больше», «меньше», «столько же»",null,"Ориентируется в пространстве от себя: впереди (сзади), сверху (снизу), справа (слева)",null,"Знает и называет геметрические фигуры: шар, куб, круг, квадрат, треугольник",null,"Понимает контрастные особенности утра и вечера, дня и ночи, зимы и лета",null,"Использует в речи слова, обохначающие свойства, качества предметов и отношений между ними",null,"среднее значение "]
[]
[null,null,"н.г.","к.г.","н.г.","к.г.","н.г.","к.г.","н.г.","к.г.","н.г.","к.г.","н.г.","к.г."]
[1,"Иванов",2,3,2,3,3,4,3,4,3,4,{"$f":"(C6+E6+G6+I6+K6)/5","v":{"v":2.6,"d":"2.60"}},{"$f":"(D6+F6+H6+J6+L6)/5","v":{"v":3.6,"d":"3.60"}}]
[2,"Петров",3,4,3,4,2,3,2,3,4,5,{"$f":"(C7+E7+G7+I7+K7)/5","v":{"v":2.8,"d":"2.80"}},{"$f":"(D7+F7+H7+J7+L7)/5","v":{"v":3.8,"d":"3.80"}}]
[3,"Сидоров",2,3,2,3,2,3,2,3,2,3,{"v":2,"d":"2.00"},{"v":3,"d":"3.00"}]
[4,{"$nulls":11},{"v":0,"d":"0.00"},{"v":0,"d":"0.00"}]
[5,{"$nulls":11},{"v":0,"d":"0.00"},{"v":0,"d":"0.00"}]
[6,{"$nulls":11},{"v":0,"d":"0.00"},{"v":0,"d":"0.00"}]
[7,{"$nulls":11},{"v":0,"d":"0.00"},{"v":0,"d":"0.00"}]
[8,{"$nulls":11},{"v":0,"d":"0.00"},{"v":0,"d":"0.00"}]
[9,{"$nulls":11},{"v":0,"d":"0.00"},{"v":0,"d":"0.00"}]
[10,{"$nulls":11},{"v":0,"d":"0.00"},{"v":0,"d":"0.00"}]
[11,{"$nulls":11},{"v":0,"d":"0.00"},{"v":0,"d":"0.00"}]
[12,{"$nulls":11},{"v":0,"d":"0.00"},{"v":0,"d":"0.00"}]
[13,{"$nulls":11},{"v":0,"d":"0.00"},{"v":0,"d":"0.00"}]
[14,{"$nulls":11},{"v":0,"d":"0.00"},{"v":0,"d":"0.00"}]
[15,{"$nulls":11},{"v":0,"d":"0.00"},{"v":0,"d":"0.00"}]
[16,{"$nulls":11},{"v":0,"d":"0.00"},{"v":0,"d":"0.00"}]
[17,{"$nulls":11},{"v":0,"d":"0.00"},{"v":0,"d":"0.00"}]
[18,{"$nulls":11},{"v":0,"d":"0.00"},{"v":0,"d":"0.00"}]
[19,{"$nulls":11},{"v":0,"d":"0.00"},{"v":0,"d":"0.00"}]
[20,{"$nulls":11},{"v":0,"d":"0.00"},{"v":0,"d":"0.00"}]
[21,{"$nulls":11},{"v":0,"d":"0.00"},{"v":0,"d":"0.00"}]
[22,{"$nulls":11},{"v":0,"d":"0.00"},{"v":0,"d":"0.00"}]
[23,{"$nulls":11},{"v":0,"d":"0.00"},{"v":0,"d":"0.00"}]
[24,{"$nulls":11},{"v":0,"d":"0.00"},{"v":0,"d":"0.00"}]
[null,"среднее значение:",{"$f":"(C6+C7+C8+C9+C10+C11+C12+C13+C14+C15+C16+C17+C18+C19+C20+C21+C22+C23+C24+C25+C26+C27+C28+C29)/COUNTA($B$6:$B$29)","v":{"v":2.3333333333333335,"d":"2.33"}},{"$f":"(D6+D7+D8+D9+D10+D11+D12+D13+D14+D15+D16+D17+D18+D19+D20+D21+D22+D23+D24+D25+D26+D27+D28+D29)/COUNTA($B$6:$B$29)","v":{"v":3.3333333333333335,"d":"3.33"}},{"v":2.3333333333333335,"d":"2.33"},{"v":3.3333333333333335,"d":"3.33"},{"v":2.3333333333333335,"d":"2.33"},{"v":3.3333333333333335,"d":"3.33"},{"v":2.3333333333333335,"d":"2.33"},{"v":3.3333333333333335,"d":"3.33"},{"v":3,"d":"3.00"},{"v":4,"d":"4.00"},{"v":2.466666666666667,"d":"2.47"},{"v":3.4666666666666672,"d":"3.47"}]
[]
[null,"начало года"]
[null,null,"всего","норма","ниже нормы","низкий "]
[null,"количество детей",{"$f":"COUNTA($B$6:$B$29)","v":3},{"$f":"COUNTIF(M6:M29,\">=3,8\")","v":0},{"$f":"COUNTIFS(M6:M29,\"<3,7\",M6:M29,\">=2,3\")","v":2},{"$f":"COUNTIFS(M6:M29,\"<2,2\",M6:M29,\">0\")","v":1}]
[null,"%",100,{"$f":"D34*C35/C34","v":{"v":0,"d":"0.0"}},{"$f":"E34*C35/C34","v":{"v":66.66666666666667,"d":"66.7"}},{"$f":"F34*C35/C34","v":{"v":33.333333333333336,"d":"33.3"}}]
[]
[null,"конец года"]
[null,null,"всего","норма","ниже нормы","низкий "]
[null,"количество детей",{"$f":"COUNTA(B6:B29)","v":3},{"$f":"COUNTIF(N6:N29,\">=3,8\")","v":1},{"$f":"COUNTIFS(N6:N29,\"<3,7\",N6:N29,\">=2,3\")","v":2},{"$f":"COUNTIFS(N6:N29,\"<2,2\",N6:N29,\">0\")","v":0}]
[null,"%",100,{"$f":"D39*C40/C39","v":{"v":33.333333333333336,"d":"33.3"}},{"$f":"E39*C40/C39","v":{"v":66.66666666666667,"d":"66.7"}},{"$f":"F39*C40/C39","v":{"v":0,"d":"0.0"}}]

{"sheet":"ПР-3","index":7,"n_rows":40,"n_cols":18,"rows_kept":40,"merged":[[0,14,0,15],[2,0,4,0],[2,1,4,1],[2,2,3,3],[2,4,3,5],[2,6,3,7],[2,8,3,9],[2,10,3,11],[2,12,3,13],[2,14,3,15],[2,16,3,17]]}
["НАПРАВЛЕНИЕ 3. ОКРУЖАЮЩИЙ МИР. ПРИРОДА.",{"$nulls":13},"ОГЛАВЛЕНИЕ"]
[]
["№п/п","ФИ ребенка","Сформированы начальные представления и эмоционально положительное отношение к родителям и членам семьи",null,"Умеет благодарить за подарки",null,"Оказывает посильную помощь родным, приобщается к традициям семьи",null,"Знает и называет некоторые растения и животных, их детёнышей, игрушки",null,"Знает некоторые овощи и фрукты и их вкусовые качества (морковь, репка, яблоко, банан, апельсин)",null,"Знает правила поведения в природе (не ломать ветки, не рвать растения, быть осторожными с животными)",null,"Выделяет признаки времен года по состоянию листвы на деревьях, почвенному покрову",null,"среднее значение "]
[]
[null,null,"н.г.","к.г.","н.г.","к.г.","н.г.","к.г.","н.г.","к.г.","н.г.","к.г.","н.г.","к.г.","н.г.","к.г.","н.г.","к.г."]
[1,"Иванов",2,3,2,3,4,5,3,4,3,4,3,4,3,4,{"$f":"(C6+E6+G6+I6+K6+M6+O6)/7","v":{"v":2.857142857142857,"d":"2.86"}},{"$f":"(D6+F6+H6+J6+L6+N6+P6)/7","v":{"v":3.857142857142857,"d":"3.86"}}]
[2,"Петров",{"$nulls":14},{"$f":"(C7+E7+G7+I7+K7+M7+O7)/7","v":{"v":0,"d":"0.00"}},{"$f":"(D7+F7+H7+J7+L7+N7+P7)/7","v":{"v":0,"d":"0.00"}}]
[3,"Сидоров",{"$nulls":14},{"v":0,"d":"0.00"},{"v":0,"d":"0.00"}]
[4,{"$nulls":15},{"v":0,"d":"0.00"},{"v":0,"d":"0.00"}]
[5,{"$nulls":15},{"v":0,"d":"0.00"},{"v":0,"d":"0.00"}]
[6,{"$nulls":15},{"v":0,"d":"0.00"},{"v":0,"d":"0.00"}]
[7,{"$nulls":15},{"v":0,"d":"0.00"},{"v":0,"d":"0.00"}]
[8,{"$nulls":15},{"v":0,"d":"0.00"},{"v":0,"d":"0.00"}]
[9,{"$nulls":15},{"v":0,"d":"0.00"},{"v":0,"d":"0.00"}]
[10,{"$nulls":15},{"v":0,"d":"0.00"},{"v":0,"d":"0.00"}]
[11,{"$nulls":15},{"v":0,"d":"0.00"},{"v":0,"d":"0.00"}]
[12,{"$nulls":15},{"v":0,"d":"0.00"},{"v":0,"d":"0.00"}]
[13,{"$nulls":15},{"v":0,"d":"0.00"},{"v":0,"d":"0.00"}]
[14,{"$nulls":15},{"v":0,"d":"0.00"},{"v":0,"d":"0.00"}]
[15,{"$nulls":15},{"v":0,"d":"0.00"},{"v":0,"d":"0.00"}]
[16,{"$nulls":15},{"v":0,"d":"0.00"},{"v":0,"d":"0.00"}]
[17,{"$nulls":15},{"v":0,"d":"0.00"},{"v":0,"d":"0.00"}]
[18,{"$nulls":15},{"v":0,"d":"0.00"},{"v":0,"d":"0.00"}]
[19,{"$nulls":15},{"v":0,"d":"0.00"},{"v":0,"d":"0.00"}]
[20,{"$nulls":15},{"v":0,"d":"0.00"},{"v":0,"d":"0.00"}]
[21,{"$nulls":15},{"v":0,"d":"0.00"},{"v":0,"d":"0.00"}]
[22,{"$nulls":15},{"v":0,"d":"0.00"},{"v":0,"d":"0.00"}]
[23,{"$nulls":15},{"v":0,"d":"0.00"},{"v":0,"d":"0.00"}]
[24,{"$nulls":15},{"v":0,"d":"0.00"},{"v":0,"d":"0.00"}]
[null,"среднее значение:",{"$f":"(C6+C7+C8+C9+C10+C11+C12+C13+C14+C15+C16+C17+C18+C19+C20+C21+C22+C23+C24+C25+C26+C27+C28+C29)/COUNTA($B$6:$B$29)","v":{"v":0.6666666666666666,"d":"0.67"}},{"$f":"(D6+D7+D8+D9+D10+D11+D12+D13+D14+D15+D16+D17+D18+D19+D20+D21+D22+D23+D24+D25+D26+D27+D28+D29)/COUNTA($B$6:$B$29)","v":{"v":1,"d":"1.00"}},{"v":0.6666666666666666,"d":"0.67"},{"v":1,"d":"1.00"},{"v":1.3333333333333333,"d":"1.33"},{"v":1.6666666666666667,"d":"1.67"},{"v":1,"d":"1.00"},{"v":1.3333333333333333,"d":"1.33"},{"v":1,"d":"1.00"},{"v":1.3333333333333333,"d":"1.33"},{"v":1,"d":"1.00"},{"v":1.3333333333333333,"d":"1.33"},{"v":1,"d":"1.00"},{"v":1.3333333333333333,"d":"1.33"},{"v":0.9523809523809523,"d":"0.95"},{"v":1.2857142857142858,"d":"1.29"}]
[]
[null,"начало года"]
[null,null,"всего","норма","ниже нормы","низкий "]
[null,"количество детей",{"$f":"COUNTA($B$6:$B$29)","v":3},{"$f":"COUNTIF(Q6:Q29,\">=3,8\")","v":0},{"$f":"COUNTIFS(Q6:Q29,\"<3,7\",Q6:Q29,\">=2,3\")","v":1},{"$f":"COUNTIFS(Q6:Q29,\"<2,2\",Q6:Q29,\">0\")","v":0}]
[null,"%",100,{"$f":"D34*C35/C34","v":0},{"$f":"E34*C35/C34","v":{"v":33.333333333333336,"d":"33.3"}},{"$f":"F34*C35/C34","v":{"v":0,"d":"0.0"}}]
[]
[null,"конец года"]
[null,null,"всего","норма","ниже нормы","низкий "]
[null,"количество детей",{"$f":"COUNTA(B6:B29)","v":3},{"$f":"COUNTIF(R6:R29,\">=3,8\")","v":1},{"$f":"COUNTIFS(R6:R29,\"<3,7\",R6:R29,\">=2,3\")","v":0},{"$f":"COUNTIFS(R6:R29,\"<2,2\",R6:R29,\">0\")","v":0}]
[null,"%",100,{"$f":"D39*C40/C39","v":{"v":33.333333333333336,"d":"33.3"}},{"$f":"E39*C40/C39","v":{"v":0,"d":"0.0"}},{"$f":"F39*C40/C39","v":{"v":0,"d":"0.0"}}]

{"sheet":"ИТОГ ПР","index":8,"n_rows":36,"n_cols":6,"rows_kept":36,"merged":[[0,0,0,6],[27,0,27,1],[27,3,27,6],[28,3,28,6],[29,3,29,6],[30,3,30,6],[31,3,31,6],[32,3,32,6],[33,3,33,6],[35,0,35,1],[35,3,35,6],[36,3,36,6],[37,3,37,6],[38,3,38,6],[39,3,39,6],[40,3,40,6],[41,3,41,6]]}
["Обобщение результатов педагогической диагностики по направлениям                                               ОО «Познавательное развитие»"]
[]
[null,"ОГЛАВЛЕНИЕ","Сенсорные эталоны и познавательные действия","Математические представления","Окружающий мир. Природа","Средний уровень развития"]
[null,null,1,2,3,"ср.ур."]
[null,"начало",{"$f":"'ПР-1'!K30","v":{"v":0.9166666666666666,"d":"0.92"}},{"$f":"'ПР-2'!M30","v":{"v":2.466666666666667,"d":"2.47"}},{"$f":"'ПР-3'!Q30","v":{"v":0.9523809523809523,"d":"0.95"}},{"$f":"(C5+D5+E5)/3","v":{"v":1.4452380952380952,"d":"1.45"}}]
[null,"конец",{"$f":"'ПР-1'!L30","v":1.25},{"$f":"'ПР-2'!N30","v":{"v":3.4666666666666672,"d":"3.47"}},{"$f":"'ПР-3'!R30","v":{"v":1.2857142857142858,"d":"1.29"}},{"$f":"(C6+D6+E6)/3","v":{"v":2.000793650793651,"d":"2.00"}}]
{"$rows_empty":20}
["ВЫВОДЫ:"]
["Начало учебного года:"]
{"$rows_empty":7}
["Конец учебного года:"]

{"sheet":"РР-1","index":9,"n_rows":41,"n_cols":21,"rows_kept":41,"merged":[[0,1,0,16],[0,18,0,19],[3,1,5,1],[3,2,5,2],[3,3,4,4],[3,5,4,6],[3,7,4,8],[3,9,4,10],[3,11,4,12],[3,13,4,14],[3,15,4,16],[3,17,4,18],[3,19,4,20],[32,11,32,13],[33,11,33,13],[34,11,34,13],[35,11,35,13],[37,11,37,13],[38,11,38,13],[39,11,39,13],[40,11,40,13]]}
[null,"Образовательная область «Речевое развитие»",{"$nulls":16},"ОГЛАВЛЕНИЕ"]
[null,"НАПРАВЛЕНИЕ I. ФОРМИРОВАНИЕ СЛОВАРЯ",{"$nulls":9},"НАПРАВЛЕНИЕ 2. ЗВУКОВАЯ КУЛЬТУРА РЕЧИ. "]
[]
[null,"№п/п","ФИ ребенка","Понимает обобщаеющие слова - мебель, одежда",null,"Различает и называет части, качества предметов, сходства",null,"Использует в речи слова, обозначающие названия предметов ближайшего окружения",null,"среднее значение ",null,"Чётко произносит все гласные звуки, определяет заданный гласный звук из двух",null,"Правильно произносит твердые и мягкие согласные звуки (м, б, п, т, д, н, к, х, ф, в, л, с, ц)",null,"Отчетливо произносит слова и короткие фразы",null,"Тепмп речи правильный, интоннационно выразителен",null,"среднее значение "]
[]
[{"$nulls":3},"н.г.","к.г.","н.г.","к.г.","н.г.","к.г.","н.г.","к.г.","н.г.","к.г.","н.г.","к.г.","н.г.","к.г.","н.г.","к.г.","н.г.","к.г."]
[null,1,"Иванов",2,3,2,3,4,5,{"$f":"(D7+F7+H7)/3","v":{"v":2.6666666666666665,"d":"3"}},{"$f":"(E7+G7+I7)/3","v":{"v":3.6666666666666665,"d":"4"}},3,3,3,4,3,4,3,4,{"$f":"(L7+N7+P7+R7)/4","v":{"v":3,"d":"3.00"}},{"$f":"(M7+O7+Q7+S7)/4","v":3.75}]
[null,2,"Петров",2,3,2,3,2,3,{"$f":"(D8+F8+H8)/3","v":2},{"$f":"(E8+G8+I8)/3","v":3},3,4,3,4,3,3,4,5,{"$f":"(L8+N8+P8+R8)/4","v":3.25},{"$f":"(M8+O8+Q8+S8)/4","v":{"v":4,"d":"4.00"}}]
[null,3,"Сидоров",3,4,3,4,4,5,{"v":3.3333333333333335,"d":"3"},{"v":4.333333333333333,"d":"4"},2,3,2,3,2,3,2,3,{"v":2,"d":"2.00"},{"v":3,"d":"3.00"}]
[null,4,{"$nulls":7},0,0,{"$nulls":8},{"v":0,"d":"0.00"},{"v":0,"d":"0.00"}]
[null,5,{"$nulls":7},0,0,{"$nulls":8},{"v":0,"d":"0.00"},{"v":0,"d":"0.00"}]
[null,6,{"$nulls":7},0,0,{"$nulls":8},{"v":0,"d":"0.00"},{"v":0,"d":"0.00"}]
[null,7,{"$nulls":7},0,0,{"$nulls":8},{"v":0,"d":"0.00"},{"v":0,"d":"0.00"}]
[null,8,{"$nulls":7},0,0,{"$nulls":8},{"v":0,"d":"0.00"},{"v":0,"d":"0.00"}]
[null,9,{"$nulls":7},0,0,{"$nulls":8},{"v":0,"d":"0.00"},{"v":0,"d":"0.00"}]
[null,10,{"$nulls":7},0,0,{"$nulls":8},{"v":0,"d":"0.00"},{"v":0,"d":"0.00"}]
[null,11,{"$nulls":7},0,0,{"$nulls":8},{"v":0,"d":"0.00"},{"v":0,"d":"0.00"}]
[null,12,{"$nulls":7},0,0,{"$nulls":8},{"v":0,"d":"0.00"},{"v":0,"d":"0.00"}]
[null,13,{"$nulls":7},0,0,{"$nulls":8},{"v":0,"d":"0.00"},{"v":0,"d":"0.00"}]
[null,14,{"$nulls":7},0,0,{"$nulls":8},{"v":0,"d":"0.00"},{"v":0,"d":"0.00"}]
[null,15,{"$nulls":7},0,0,{"$nulls":8},{"v":0,"d":"0.00"},{"v":0,"d":"0.00"}]
[null,16,{"$nulls":7},0,0,{"$nulls":8},{"v":0,"d":"0.00"},{"v":0,"d":"0.00"}]
[null,17,{"$nulls":7},0,0,{"$nulls":8},{"v":0,"d":"0.00"},{"v":0,"d":"0.00"}]
[null,18,{"$nulls":7},0,0,{"$nulls":8},{"v":0,"d":"0.00"},{"v":0,"d":"0.00"}]
[null,19,{"$nulls":7},0,0,{"$nulls":8},{"v":0,"d":"0.00"},{"v":0,"d":"0.00"}]
[null,20,{"$nulls":7},0,0,{"$nulls":8},{"v":0,"d":"0.00"},{"v":0,"d":"0.00"}]
[null,21,{"$nulls":7},0,0,{"$nulls":8},{"v":0,"d":"0.00"},{"v":0,"d":"0.00"}]
[null,22,{"$nulls":7},0,0,{"$nulls":8},{"v":0,"d":"0.00"},{"v":0,"d":"0.00"}]
[null,23,{"$nulls":7},0,0,{"$nulls":8},{"v":0,"d":"0.00"},{"v":0,"d":"0.00"}]
[null,24,{"$nulls":7},0,0,{"$nulls":8},{"v":0,"d":"0.00"},{"v":0,"d":"0.00"}]
[null,null,"среднее значение:",{"$f":"(D7+D8+D9+D10+D11+D12+D13+D14+D15+D16+D17+D18+D19+D20+D21+D22+D23+D24+D25+D26+D27+D28+D29+D30)/COUNTA($C$7:$C$30)","v":{"v":2.3333333333333335,"d":"2.33"}},{"$f":"(E7+E8+E9+E10+E11+E12+E13+E14+E15+E16+E17+E18+E19+E20+E21+E22+E23+E24+E25+E26+E27+E28+E29+E30)/24","v":{"v":0.4166666666666667,"d":"0.42"}},{"$f":"(F7+F8+F9+F10+F11+F12+F13+F14+F15+F16+F17+F18+F19+F20+F21+F22+F23+F24+F25+F26+F27+F28+F29+F30)/24","v":{"v":0.2916666666666667,"d":"0.29"}},{"$f":"(G7+G8+G9+G10+G11+G12+G13+G14+G15+G16+G17+G18+G19+G20+G21+G22+G23+G24+G25+G26+G27+G28+G29+G30)/24","v":{"v":0.4166666666666667,"d":"0.42"}},{"v":0.4166666666666667,"d":"0.42"},{"v":0.5416666666666666,"d":"0.54"},{"v":1.0138888888888888,"d":"1"},{"v":0.4583333333333333,"d":"0"},{"v":0.3333333333333333,"d":"0.33"},{"v":0.4166666666666667,"d":"0.42"},{"v":0.3333333333333333,"d":"0.33"},{"v":0.4583333333333333,"d":"0.46"},{"v":0.3333333333333333,"d":"0.33"},{"v":0.4166666666666667,"d":"0.42"},{"v":0.375,"d":"0.38"},{"v":0.5,"d":"0.50"},{"$f":"(L31+N31+P31+R31)/4","v":{"v":0.34375,"d":"0.34"}},{"$f":"(M31+O31+Q31+S31)/4","v":{"v":0.4479166666666667,"d":"0.45"}}]
[]
[null,null,"начало года",{"$nulls":8},"начало года"]
[{"$nulls":3},"всего","норма","ниже нормы","низкий ",{"$nulls":7},"всего","норма","ниже нормы","низкий "]
[null,null,"количество детей",{"$f":"COUNTA($C$7:$C$30)","v":3},{"$f":"COUNTIF(T7:T30,\">=3,8\")","v":0},{"$f":"COUNTIFS(T7:T30,\"<3,7\",T7:T30,\">=2,3\")","v":2},{"$f":"COUNTIFS(T7:T30,\"<2,2\",T7:T30,\">0\")","v":1},{"$nulls":4},"количество детей",null,null,{"$f":"COUNTA($C$7:$C$30)","v":3},{"$f":"COUNTIF(T7:T30,\">=3,8\")","v":0},{"$f":"COUNTIFS(T7:T30,\"<3,7\",T7:T30,\">=2,3\")","v":2},{"$f":"COUNTIFS(T7:T30,\"<2,2\",T7:T30,\">0\")","v":1}]
[null,null,"%",100,{"$f":"E35*D36/D35","v":0},{"$f":"F35*D36/D35","v":{"v":66.66666666666667,"d":"66.7"}},{"$f":"G35*D36/D35","v":{"v":33.333333333333336,"d":"33.3"}},{"$nulls":4},"%",null,null,100,{"$f":"P35*O36/O35","v":0},{"$f":"Q35*O36/O35","v":{"v":66.66666666666667,"d":"66.7"}},{"$f":"R35*O36/O35","v":{"v":33.333333333333336,"d":"33.3"}}]
[]
[null,null,"конец года",{"$nulls":8},"конец года"]
[{"$nulls":3},"всего","норма","ниже нормы","низкий ",{"$nulls":7},"всего","норма","ниже нормы","низкий "]
[null,null,"количество детей",{"$f":"COUNTA(C7:C30)","v":3},{"$f":"COUNTIF(U7:U30,\">=3,8\")","v":1},{"$f":"COUNTIFS(U7:U30,\"<3,7\",U7:U30,\">=2,3\")","v":1},{"$f":"COUNTIFS(U7:U30,\"<2,2\",U7:U30,\">0\")","v":0},{"$nulls":4},"количество детей",null,null,{"$f":"COUNTA($C$7:$C$30)","v":3},{"$f":"COUNTIF(U7:U30,\">=3,8\")","v":1},{"$f":"COUNTIFS(U7:U30,\"<3,7\",U7:U30,\">=2,3\")","v":1},{"$f":"COUNTIFS(U7:U30,\"<2,2\",U7:U30,\">0\")","v":0}]
[null,null,"%",100,{"$f":"E40*D41/D40","v":{"v":33.333333333333336,"d":"33.3"}},{"$f":"F40*D41/D40","v":{"v":33.333333333333336,"d":"33.3"}},{"$f":"G40*D41/D40","v":{"v":0,"d":"0.0"}},{"$nulls":4},"%",null,null,100,{"$f":"P40*O41/O40","v":{"v":33.333333333333336,"d":"33.3"}},{"$f":"Q40*O41/O40","v":{"v":33.333333333333336,"d":"33.3"}},{"$f":"R40*O41/O40","v":{"v":0,"d":"0.0"}}]

{"sheet":"РР-2","index":10,"n_rows":40,"n_cols":18,"rows_kept":40,"merged":[[0,16,0,17],[2,0,4,0],[2,1,4,1],[2,2,3,3],[2,4,3,5],[2,6,3,7],[2,8,3,9],[2,10,3,11],[2,12,3,13],[2,14,3,15],[2,16,3,17]]}
["НАПРАВЛЕНИЕ 3. ГРАММАТИЧЕСКИЙ СТРОЙ РЕЧИ.",{"$nulls":15},"ОГЛАВЛЕНИЕ"]
[]
["№п/п","ФИ ребенка","Умеет согласовывать слова в роде, числе и падеже",null,"Употребляет существительные с предлогами",null,"Использует в речи имена сущ-ые в форме ед. и мн.ч., обозначающие животных и их детенышей",null,"Составляет предложения с однородными членами",null,"Умеет образовывать повелительную форму глаголов",null,"Использует приставочный способ для образования глаголов (вошел - вышел)",null,"Образовывает звукоподражательные глаголы (чирикает)",null,"среднее значение "]
[]
[null,null,"н.г.","к.г.","н.г.","к.г.","н.г.","к.г.","н.г.","к.г.","н.г.","к.г.","н.г.","к.г.","н.г.","к.г.","н.г.","к.г."]
[1,"Иванов",3,4,2,3,3,4,3,4,4,5,3,4,3,4,{"$f":"(C6+E6+G6+I6+K6+M6+O6)/7","v":{"v":3,"d":"3.00"}},{"$f":"(D6+F6+H6+J6+L6+N6+P6)/7","v":{"v":4,"d":"4.00"}}]
[2,"Петров",{"$nulls":14},{"$f":"(C7+E7+G7+I7+K7+M7+O7)/7","v":{"v":0,"d":"0.00"}},{"$f":"(D7+F7+H7+J7+L7+N7+P7)/7","v":{"v":0,"d":"0.00"}}]
[3,"Сидоров",{"$nulls":14},{"v":0,"d":"0.00"},{"v":0,"d":"0.00"}]
[4,{"$nulls":15},{"v":0,"d":"0.00"},{"v":0,"d":"0.00"}]
[5,{"$nulls":15},{"v":0,"d":"0.00"},{"v":0,"d":"0.00"}]
[6,{"$nulls":15},{"v":0,"d":"0.00"},{"v":0,"d":"0.00"}]
[7,{"$nulls":15},{"v":0,"d":"0.00"},{"v":0,"d":"0.00"}]
[8,{"$nulls":15},{"v":0,"d":"0.00"},{"v":0,"d":"0.00"}]
[9,{"$nulls":15},{"v":0,"d":"0.00"},{"v":0,"d":"0.00"}]
[10,{"$nulls":15},{"v":0,"d":"0.00"},{"v":0,"d":"0.00"}]
[11,{"$nulls":15},{"v":0,"d":"0.00"},{"v":0,"d":"0.00"}]
[12,{"$nulls":15},{"v":0,"d":"0.00"},{"v":0,"d":"0.00"}]
[13,{"$nulls":15},{"v":0,"d":"0.00"},{"v":0,"d":"0.00"}]
[14,{"$nulls":15},{"v":0,"d":"0.00"},{"v":0,"d":"0.00"}]
[15,{"$nulls":15},{"v":0,"d":"0.00"},{"v":0,"d":"0.00"}]
[16,{"$nulls":15},{"v":0,"d":"0.00"},{"v":0,"d":"0.00"}]
[17,{"$nulls":15},{"v":0,"d":"0.00"},{"v":0,"d":"0.00"}]
[18,{"$nulls":15},{"v":0,"d":"0.00"},{"v":0,"d":"0.00"}]
[19,{"$nulls":15},{"v":0,"d":"0.00"},{"v":0,"d":"0.00"}]
[20,{"$nulls":15},{"v":0,"d":"0.00"},{"v":0,"d":"0.00"}]
[21,{"$nulls":15},{"v":0,"d":"0.00"},{"v":0,"d":"0.00"}]
[22,{"$nulls":15},{"v":0,"d":"0.00"},{"v":0,"d":"0.00"}]
[23,{"$nulls":15},{"v":0,"d":"0.00"},{"v":0,"d":"0.00"}]
[24,{"$nulls":15},{"v":0,"d":"0.00"},{"v":0,"d":"0.00"}]
[null,"среднее значение:",{"$f":"(C6+C7+C8+C9+C10+C11+C12+C13+C14+C15+C16+C17+C18+C19+C20+C21+C22+C23+C24+C25+C26+C27+C28+C29)/COUNTA($B$6:$B$29)","v":{"v":1,"d":"1.00"}},{"$f":"(D6+D7+D8+D9+D10+D11+D12+D13+D14+D15+D16+D17+D18+D19+D20+D21+D22+D23+D24+D25+D26+D27+D28+D29)/COUNTA($B$6:$B$29)","v":{"v":1.3333333333333333,"d":"1.33"}},{"v":0.6666666666666666,"d":"0.67"},{"v":1,"d":"1.00"},{"v":1,"d":"1.00"},{"v":1.3333333333333333,"d":"1.33"},{"v":1,"d":"1.00"},{"v":1.3333333333333333,"d":"1.33"},{"v":1.3333333333333333,"d":"1.33"},{"v":1.6666666666666667,"d":"1.67"},{"v":1,"d":"1.00"},{"v":1.3333333333333333,"d":"1.33"},{"v":1,"d":"1.00"},{"v":1.3333333333333333,"d":"1.33"},{"v":1,"d":"1.00"},{"v":1.3333333333333333,"d":"1.33"}]
[]
[null,"начало года"]
[null,null,"всего","норма","ниже нормы","низкий "]
[null,"количество детей",{"$f":"COUNTA($B$6:$B$29)","v":3},{"$f":"COUNTIF(Q6:Q29,\">=3,8\")","v":0},{"$f":"COUNTIFS(Q6:Q29,\"<3,7\",Q6:Q29,\">=2,3\")","v":1},{"$f":"COUNTIFS(Q6:Q29,\"<2,2\",Q6:Q29,\">0\")","v":0}]
[null,"%",100,{"$f":"D34*C35/C34","v":0},{"$f":"E34*C35/C34","v":{"v":33.333333333333336,"d":"33.3"}},{"$f":"F34*C35/C34","v":{"v":0,"d":"0.0"}}]
[]
[null,"конец года"]
[null,null,"всего","норма","ниже нормы","низкий "]
[null,"количество детей",{"$f":"COUNTA(B5:B28)","v":3},{"$f":"COUNTIF(R6:R29,\">=3,8\")","v":1},{"$f":"COUNTIFS(R6:R29,\"<3,7\",R6:R29,\">=2,3\")","v":0},{"$f":"COUNTIFS(R6:R29,\"<2,2\",R6:R29,\">0\")","v":0}]
[null,"%",100,{"$f":"D39*C40/C39","v":{"v":33.333333333333336,"d":"33.3"}},{"$f":"E39*C40/C39","v":{"v":0,"d":"0.0"}},{"$f":"F39*C40/C39","v":{"v":0,"d":"0.0"}}]

{"sheet":"РР-3","index":11,"n_rows":41,"n_cols":16,"rows_kept":41,"merged":[[0,12,0,13],[2,0,4,0],[2,1,4,1],[2,2,3,3],[2,4,3,5],[2,6,3,7],[2,8,3,9],[2,10,3,11],[2,12,3,13],[2,14,3,15]]}
["НАПРАВЛЕНИЕ 4. СВЯЗНАЯ РЕЧЬ",{"$nulls":11},"ОГЛАВЛЕНИЕ"]
[]
["№п/п","ФИ ребенка","Отвечает  на вопросы педаога при рассматривании предметов, картин, иллюстраций",null,"Свободно вступает в общение со взрослыми и детьми",null,"Пользуется простыми формулами речевого этикета",null,"Составляет рассказ по картинке из 3-4 предложений",null,"С помощью педагога пересказывает хорошо знакомые сказки",null,"Читает наизусть короткие стихотворения",null,"среднее значение "]
[]
[null,null,"н.г.","к.г.","н.г.","к.г.","н.г.","к.г.","н.г.","к.г.","н.г.","к.г.","н.г.","к.г.","н.г.","к.г."]
[1,"Иванов",2,3,3,4,4,4,4,5,4,4,3,4,{"$f":"(C6+E6+G6+I6+K6+M6)/6","v":{"v":3.3333333333333335,"d":"3.33"}},{"$f":"(D6+F6+H6+J6+L6+N6)/6","v":{"v":4,"d":"4.00"}}]
[2,"Петров",{"$nulls":12},{"$f":"(C7+E7+G7+I7+K7+M7)/6","v":{"v":0,"d":"0.00"}},{"$f":"(D7+F7+H7+J7+L7+N7)/6","v":{"v":0,"d":"0.00"}}]
[3,"Сидоров",{"$nulls":12},{"v":0,"d":"0.00"},{"v":0,"d":"0.00"}]
[4,{"$nulls":13},{"v":0,"d":"0.00"},{"v":0,"d":"0.00"}]
[5,{"$nulls":13},{"v":0,"d":"0.00"},{"v":0,"d":"0.00"}]
[6,{"$nulls":13},{"v":0,"d":"0.00"},{"v":0,"d":"0.00"}]
[7,{"$nulls":13},{"v":0,"d":"0.00"},{"v":0,"d":"0.00"}]
[8,{"$nulls":13},{"v":0,"d":"0.00"},{"v":0,"d":"0.00"}]
[9,{"$nulls":13},{"v":0,"d":"0.00"},{"v":0,"d":"0.00"}]
[10,{"$nulls":13},{"v":0,"d":"0.00"},{"v":0,"d":"0.00"}]
[11,{"$nulls":13},{"v":0,"d":"0.00"},{"v":0,"d":"0.00"}]
[12,{"$nulls":13},{"v":0,"d":"0.00"},{"v":0,"d":"0.00"}]
[13,{"$nulls":13},{"v":0,"d":"0.00"},{"v":0,"d":"0.00"}]
[14,{"$nulls":13},{"v":0,"d":"0.00"},{"v":0,"d":"0.00"}]
[15,{"$nulls":13},{"v":0,"d":"0.00"},{"v":0,"d":"0.00"}]
[16,{"$nulls":13},{"v":0,"d":"0.00"},{"v":0,"d":"0.00"}]
[17,{"$nulls":13},{"v":0,"d":"0.00"},{"v":0,"d":"0.00"}]
[18,{"$nulls":13},{"v":0,"d":"0.00"},{"v":0,"d":"0.00"}]
[19,{"$nulls":13},{"v":0,"d":"0.00"},{"v":0,"d":"0.00"}]
[20,{"$nulls":13},{"v":0,"d":"0.00"},{"v":0,"d":"0.00"}]
[21,{"$nulls":13},{"v":0,"d":"0.00"},{"v":0,"d":"0.00"}]
[22,{"$nulls":13},{"v":0,"d":"0.00"},{"v":0,"d":"0.00"}]
[23,{"$nulls":13},{"v":0,"d":"0.00"},{"v":0,"d":"0.00"}]
[24,{"$nulls":13},{"v":0,"d":"0.00"},{"v":0,"d":"0.00"}]
[null,"среднее значение:",{"$f":"(C6+C7+C8+C9+C10+C11+C12+C13+C14+C15+C16+C17+C18+C19+C20+C21+C22+C23+C24+C25+C26+C27+C28+C29)/COUNTA($B$6:$B$29)","v":{"v":0.6666666666666666,"d":"0.67"}},{"$f":"(D6+D7+D8+D9+D10+D11+D12+D13+D14+D15+D16+D17+D18+D19+D20+D21+D22+D23+D24+D25+D26+D27+D28+D29)/COUNTA($B$6:$B$29)","v":{"v":1,"d":"1.00"}},{"v":1,"d":"1.00"},{"v":1.3333333333333333,"d":"1.33"},{"v":1.3333333333333333,"d":"1.33"},{"v":1.3333333333333333,"d":"1.33"},{"v":1.3333333333333333,"d":"1.33"},{"v":1.6666666666666667,"d":"1.67"},{"v":1.3333333333333333,"d":"1.33"},{"v":1.3333333333333333,"d":"1.33"},{"v":1,"d":"1.00"},{"v":1.3333333333333333,"d":"1.33"},{"v":1.111111111111111,"d":"1.11"},{"v":1.3333333333333333,"d":"1.33"}]
[]
[]
[null,"начало года"]
[null,null,"всего","норма","ниже нормы","низкий "]
[null,"количество детей",{"$f":"COUNTA($B$6:$B$29)","v":3},{"$f":"COUNTIF(O6:O29,\">=3,8\")","v":0},{"$f":"COUNTIFS(O6:O29,\"<3,7\",O6:O29,\">=2,3\")","v":1},{"$f":"COUNTIFS(O6:O29,\"<2,2\",O6:O29,\">0\")","v":0}]
[null,"%",100,{"$f":"D35*C36/C35","v":0},{"$f":"E35*C36/C35","v":{"v":33.333333333333336,"d":"33.3"}},{"$f":"F35*C36/C35","v":{"v":0,"d":"0.0"}}]
[]
[null,"конец года"]
[null,null,"всего","норма","ниже нормы","низкий "]
[null,"количество детей",{"$f":"COUNTA(B5:B28)","v":3},{"$f":"COUNTIF(P6:P29,\">=3,8\")","v":1},{"$f":"COUNTIFS(P6:P29,\"<3,7\",P6:P29,\">=2,3\")","v":0},{"$f":"COUNTIFS(P6:P29,\"<2,2\",P6:P29,\">0\")","v":0}]
[null,"%",100,{"$f":"D40*C41/C40","v":{"v":33.333333333333336,"d":"33.3"}},{"$f":"E40*C41/C40","v":{"v":0,"d":"0.0"}},{"$f":"F40*C41/C40","v":{"v":0,"d":"0.0"}}]

{"sheet":"РР-4","index":12,"n_rows":40,"n_cols":19,"rows_kept":40,"merged":[[1,15,1,16],[2,1,4,1],[2,2,4,2],[2,3,3,4],[2,5,3,6],[2,7,3,8],[2,9,3,10],[2,11,3,12],[2,13,3,14],[2,15,3,16],[2,17,3,18],[31,9,31,11],[32,9,32,11],[33,9,33,11],[34,9,34,11],[36,9,36,11],[37,9,37,11],[38,9,38,11],[39,9,39,11]]}
[null,"НАПРАВЛЕНИЕ 5. ПОДГОТОВКА К ОБУЧЕНИЮ ГРАМОТЕ.",{"$nulls":7},"НАПРАВЛЕНИЕ 6. ИНТЕРЕС К ХУДОЖЕСТВЕННОЙ ЛИТЕРАТУРЕ"]
[{"$nulls":15},"ОГЛАВЛЕНИЕ"]
[null,"№п/п","ФИ ребенка","Вслушивается в звучание слова",null,"Владеет терминами \"слово\", \"звук\"",null,"среднее значение ",null,"Внятно, не спеша произносит небольшие потешки и стихотворения",null,"Воспроизводит короткие ролевые диалоги из сказок и прибауток в играх-драматизациях",null,"Эмоционально откливаектся на процесс совместного слушания художественных произведений (улыбка, смех, жесты)",null,"Понимает содержание и композицию текста (поступки персонажы, последовательность событий)",null,"среднее значение "]
[]
[{"$nulls":3},"н.г.","к.г.","н.г.","к.г.","н.г.","к.г.","н.г.","к.г.","н.г.","к.г.","н.г.","к.г.","н.г.","к.г.","н.г.","к.г."]
[null,1,"Иванов",3,4,3,4,{"$f":"(D6+F6)/2","v":{"v":3,"d":"3.00"}},{"$f":"(+E6+G6)/2","v":{"v":4,"d":"4.00"}},2,3,2,3,4,5,3,4,{"$f":"(J6+L6+N6+P6)/4","v":2.75},{"$f":"(K6+M6+O6+Q6)/4","v":3.75}]
[null,2,"Петров",2,3,2,3,{"$f":"(D7+F7)/2","v":{"v":2,"d":"2.00"}},{"$f":"(+E7+G7)/2","v":{"v":3,"d":"3.00"}},3,4,2,3,3,5,3,4,{"$f":"(J7+L7+N7+P7)/4","v":2.75},{"$f":"(K7+M7+O7+Q7)/4","v":{"v":4,"d":"4.00"}}]
[null,3,"Сидоров",4,5,4,5,{"v":4,"d":"4.00"},{"v":5,"d":"5.00"},3,4,3,4,4,5,4,5,{"v":3.5,"d":"3.50"},{"v":4.5,"d":"4.50"}]
[null,4,{"$nulls":5},{"v":0,"d":"0.00"},{"v":0,"d":"0.00"},{"$nulls":8},{"v":0,"d":"0.00"},{"v":0,"d":"0.00"}]
[null,5,{"$nulls":5},{"v":0,"d":"0.00"},{"v":0,"d":"0.00"},{"$nulls":8},{"v":0,"d":"0.00"},{"v":0,"d":"0.00"}]
[null,6,{"$nulls":5},{"v":0,"d":"0.00"},{"v":0,"d":"0.00"},{"$nulls":8},{"v":0,"d":"0.00"},{"v":0,"d":"0.00"}]
[null,7,{"$nulls":5},{"v":0,"d":"0.00"},{"v":0,"d":"0.00"},{"$nulls":8},{"v":0,"d":"0.00"},{"v":0,"d":"0.00"}]
[null,8,{"$nulls":5},{"v":0,"d":"0.00"},{"v":0,"d":"0.00"},{"$nulls":8},{"v":0,"d":"0.00"},{"v":0,"d":"0.00"}]
[null,9,{"$nulls":5},{"v":0,"d":"0.00"},{"v":0,"d":"0.00"},{"$nulls":8},{"v":0,"d":"0.00"},{"v":0,"d":"0.00"}]
[null,10,{"$nulls":5},{"v":0,"d":"0.00"},{"v":0,"d":"0.00"},{"$nulls":8},{"v":0,"d":"0.00"},{"v":0,"d":"0.00"}]
[null,11,{"$nulls":5},{"v":0,"d":"0.00"},{"v":0,"d":"0.00"},{"$nulls":8},{"v":0,"d":"0.00"},{"v":0,"d":"0.00"}]
[null,12,{"$nulls":5},{"v":0,"d":"0.00"},{"v":0,"d":"0.00"},{"$nulls":8},{"v":0,"d":"0.00"},{"v":0,"d":"0.00"}]
[null,13,{"$nulls":5},{"v":0,"d":"0.00"},{"v":0,"d":"0.00"},{"$nulls":8},{"v":0,"d":"0.00"},{"v":0,"d":"0.00"}]
[null,14,{"$nulls":5},{"v":0,"d":"0.00"},{"v":0,"d":"0.00"},{"$nulls":8},{"v":0,"d":"0.00"},{"v":0,"d":"0.00"}]
[null,15,{"$nulls":5},{"v":0,"d":"0.00"},{"v":0,"d":"0.00"},{"$nulls":8},{"v":0,"d":"0.00"},{"v":0,"d":"0.00"}]
[null,16,{"$nulls":5},{"v":0,"d":"0.00"},{"v":0,"d":"0.00"},{"$nulls":8},{"v":0,"d":"0.00"},{"v":0,"d":"0.00"}]
[null,17,{"$nulls":5},{"v":0,"d":"0.00"},{"v":0,"d":"0.00"},{"$nulls":8},{"v":0,"d":"0.00"},{"v":0,"d":"0.00"}]
[null,18,{"$nulls":5},{"v":0,"d":"0.00"},{"v":0,"d":"0.00"},{"$nulls":8},{"v":0,"d":"0.00"},{"v":0,"d":"0.00"}]
[null,19,{"$nulls":5},{"v":0,"d":"0.00"},{"v":0,"d":"0.00"},{"$nulls":8},{"v":0,"d":"0.00"},{"v":0,"d":"0.00"}]
[null,20,{"$nulls":5},{"v":0,"d":"0.00"},{"v":0,"d":"0.00"},{"$nulls":8},{"v":0,"d":"0.00"},{"v":0,"d":"0.00"}]
[null,21,{"$nulls":5},{"v":0,"d":"0.00"},{"v":0,"d":"0.00"},{"$nulls":8},{"v":0,"d":"0.00"},{"v":0,"d":"0.00"}]
[null,22,{"$nulls":5},{"v":0,"d":"0.00"},{"v":0,"d":"0.00"},{"$nulls":8},{"v":0,"d":"0.00"},{"v":0,"d":"0.00"}]
[null,23,{"$nulls":5},{"v":0,"d":"0.00"},{"v":0,"d":"0.00"},{"$nulls":8},{"v":0,"d":"0.00"},{"v":0,"d":"0.00"}]
[null,24,{"$nulls":5},{"v":0,"d":"0.00"},{"v":0,"d":"0.00"},{"$nulls":8},{"v":0,"d":"0.00"},{"v":0,"d":"0.00"}]
[null,null,"среднее значение:",{"$f":"(D6+D7+D8+D9+D10+D11+D12+D13+D14+D15+D16+D17+D18+D19+D20+D21+D22+D23+D24+D25+D26+D27+D28+D29)/COUNTA($C$6:$C$29)","v":{"v":3,"d":"3.00"}},{"$f":"(E6+E7+E8+E9+E10+E11+E12+E13+E14+E15+E16+E17+E18+E19+E20+E21+E22+E23+E24+E25+E26+E27+E28+E29)/COUNTA($C$6:$C$29)","v":{"v":4,"d":"4.00"}},{"$f":"(F6+F7+F8+F9+F10+F11+F12+F13+F14+F15+F16+F17+F18+F19+F20+F21+F22+F23+F24+F25+F26+F27+F28+F29)/COUNTA($C$6:$C$29)","v":{"v":3,"d":"3.00"}},{"$f":"(G6+G7+G8+G9+G10+G11+G12+G13+G14+G15+G16+G17+G18+G19+G20+G21+G22+G23+G24+G25+G26+G27+G28+G29)/COUNTA($C$6:$C$29)","v":{"v":4,"d":"4.00"}},{"v":3,"d":"3.00"},{"v":4,"d":"4.00"},{"$f":"(J6+J7+J8+J9+J10+J11+J12+J13+J14+J15+J16+J17+J18+J19+J20+J21+J22+J23+J24+J25+J26+J27+J28+J29)/COUNTA($C$6:$C$29)","v":{"v":2.6666666666666665,"d":"2.67"}},{"v":3.6666666666666665,"d":"3.67"},{"v":2.3333333333333335,"d":"2.33"},{"v":3.3333333333333335,"d":"3.33"},{"v":3.6666666666666665,"d":"3.67"},{"v":5,"d":"5.00"},{"v":3.3333333333333335,"d":"3.33"},{"v":4.333333333333333,"d":"4.33"},{"v":3,"d":"3.00"},{"v":4.083333333333333,"d":"4.08"}]
[]
[null,null,"начало года",{"$nulls":6},"начало года"]
[{"$nulls":3},"всего","норма","ниже нормы","низкий ",{"$nulls":5},"всего","норма","ниже нормы","низкий "]
[null,null,"количество детей",{"$f":"COUNTA($C$6:$C$29)","v":3},{"$f":"COUNTIF(R6:R29,\">=3,8\")","v":0},{"$f":"COUNTIFS(R6:R29,\"<3,7\",R6:R29,\">=2,3\")","v":3},{"$f":"COUNTIFS(R6:R29,\"<2,2\",R6:R29,\">0\")","v":0},null,null,"количество детей",null,null,{"$f":"COUNTA($C$6:$C$29)","v":3},{"$f":"COUNTIF(R6:R29,\">=3,8\")","v":0},{"$f":"COUNTIFS(R6:R29,\"<3,7\",R6:R29,\">=2,3\")","v":3},{"$f":"COUNTIFS(R6:R29,\"<2,2\",R6:R29,\">0\")","v":0}]
[null,null,"%",100,{"$f":"E34*D35/D34","v":0},{"$f":"F34*D35/D34","v":{"v":100,"d":"100.0"}},{"$f":"G34*D35/D34","v":{"v":0,"d":"0.0"}},null,null,"%",null,null,100,{"$f":"N34*M35/M34","v":0},{"$f":"O34*M35/M34","v":{"v":100,"d":"100.0"}},{"$f":"P34*M35/M34","v":{"v":0,"d":"0.0"}}]
[]
[null,null,"конец года",{"$nulls":6},"конец года"]
[{"$nulls":3},"всего","норма","ниже нормы","низкий ",{"$nulls":5},"всего","норма","ниже нормы","низкий "]
[null,null,"количество детей",{"$f":"COUNTA(C5:C28)","v":3},{"$f":"COUNTIF(S6:S29,\">=3,8\")","v":2},{"$f":"COUNTIFS(S6:S29,\"<3,7\",S6:S29,\">=2,3\")","v":0},{"$f":"COUNTIFS(S6:S29,\"<2,2\",S6:S29,\">0\")","v":0},null,null,"количество детей",null,null,{"$f":"COUNTA(L5:L28)","v":4},{"$f":"COUNTIF(S6:S29,\">=3,8\")","v":2},{"$f":"COUNTIFS(S6:S29,\"<3,7\",S6:S29,\">=2,3\")","v":0},{"$f":"COUNTIFS(S6:S29,\"<2,2\",S6:S29,\">0\")","v":0}]
[null,null,"%",100,{"$f":"E39*D40/D39","v":{"v":66.66666666666667,"d":"66.7"}},{"$f":"F39*D40/D39","v":{"v":0,"d":"0.0"}},{"$f":"G39*D40/D39","v":{"v":0,"d":"0.0"}},null,null,"%",null,null,100,{"$f":"N39*M40/M39","v":{"v":50,"d":"50.0"}},{"$f":"O39*M40/M39","v":{"v":0,"d":"0.0"}},{"$f":"P39*M40/M39","v":{"v":0,"d":"0.0"}}]

{"sheet":"ИТОГ РР","index":13,"n_rows":37,"n_cols":8,"rows_kept":37,"merged":[[0,0,0,7],[1,1,1,6],[28,0,28,1],[28,2,28,7],[29,2,29,7],[30,2,30,7],[31,2,31,7],[32,2,32,7],[33,2,33,7],[34,2,34,7],[36,0,36,1],[36,2,36,7],[37,2,37,7],[38,2,38,7],[39,2,39,7],[40,2,40,7],[41,2,41,7],[42,2,42,7]]}
["Обобщение результатов педагогической диагностики по направлениям"]
[null,"ОО «Речевое развитие»"]
[]
["ОГЛАВЛЕНИЕ","Формирование словаря","Звуковая культура речи","Грамматический строй речи","Связная речь","Подготовка к обучению грамоте","Интерес к художественной литературе","Средний уровень речевого развития"]
[null,1,2,3,4,5,6,"ср.ур."]
["начало",{"$f":"'РР-1'!J31","v":{"v":1.0138888888888888,"d":"1.01"}},{"$f":"'РР-1'!T31","v":{"v":0.34375,"d":"0.34"}},{"$f":"'РР-2'!Q30","v":{"v":1,"d":"1.00"}},{"$f":"'РР-3'!O30","v":{"v":1.111111111111111,"d":"1.11"}},{"$f":"'РР-4'!H30","v":{"v":3,"d":"3.00"}},{"$f":"'РР-4'!R30","v":{"v":3,"d":"3.00"}},{"$f":"(B6+C6+D6+E6+G6)/5","v":{"v":1.29375,"d":"1.29"}}]
["конец",{"$f":"'РР-1'!U31","v":{"v":0.4479166666666667,"d":"0.45"}},{"$f":"'РР-1'!U31","v":{"v":0.4479166666666667,"d":"0.45"}},{"$f":"'РР-2'!R30","v":{"v":1.3333333333333333,"d":"1.33"}},{"$f":"'РР-3'!P30","v":{"v":1.3333333333333333,"d":"1.33"}},{"$f":"'РР-4'!I30","v":{"v":4,"d":"4.00"}},{"$f":"'РР-4'!S30","v":{"v":4.083333333333333,"d":"4.08"}},{"$f":"(B7+C7+D7+E7+G7)/5","v":{"v":1.5291666666666666,"d":"1.53"}}]
{"$rows_empty":20}
["ВЫВОДЫ:"]
["Начало учебного года:"]
{"$rows_empty":7}
["Конец учебного года:"]

{"sheet":"ХЭ-1","index":14,"n_rows":41,"n_cols":30,"rows_kept":41,"merged":[[0,0,0,29],[1,27,1,28],[3,0,6,0],[3,1,6,1],[3,2,5,3],[3,4,5,5],[3,6,5,7],[3,8,5,9],[3,10,5,11],[3,12,3,27],[3,28,5,29],[4,12,4,17],[4,18,4,21],[4,22,4,27],[5,12,5,13],[5,14,5,15],[5,16,5,17],[5,18,5,19],[5,20,5,21],[5,22,5,23],[5,24,5,25],[5,26,5,27],[32,12,32,14],[33,12,33,14],[34,12,34,14],[35,12,35,14],[37,12,37,14],[38,12,38,14],[39,12,39,14],[40,12,40,14]]}
["Образовательная область «Художественно-эстетическое развитие»"]
["НАПРАВЛЕНИЕ I. ПРИОБЩЕНИЕ К ИСКУССТВУ.",{"$nulls":15},"НАПРАВЛЕНИЕ 2. ИЗОБРАЗИТЕЛЬНАЯ ДЕЯТЕЛЬНОСТЬ",{"$nulls":10},"ОГЛАВЛЕНИЕ"]
[]
["№п/п","ФИ ребенка","Проявляет интерес к произведениям искусства",null,"Различает некоторые виды искусства",null,"Слушает чтение художественных текстов, сосредотачивается на этой деятельности на 10—15 минут, не отвлекается при этом",null,"Проявляет положительный эмоциональный отклик на красоту природы",null,"среднее значение",null,"Изобразительная деятельность",{"$nulls":15},"среднее значение "]
[{"$nulls":12},"рисование",{"$nulls":5},"лепка",{"$nulls":3},"аппликация; народное ДПИ"]
[{"$nulls":12},"Правильно держит карандаш, не сжимая сильно пальцы",null,"рисует линии вразных направлениях",null,"создает несложные сюжетные композации",null,"раскатывает комочки прямыми и круговыми движениями",null,"создает предметы состоящие из 2-3 частей",null,"умеет пользоваться клеем",null,"Изображает/создаёт отдельные предметы, простые по композиции и по содержанию сюжеты, используя разные материалы",null,"Создаёт изображения предметов из готовых фигур. Украшает заготовки из бумаги разной формы"]
[null,null,"н.г.","к.г.","н.г.","к.г.","н.г.","к.г.","н.г.","к.г.","н.г.","к.г.","н.г.","к.г.","н.г.","к.г.","н.г.","к.г.","н.г.","к.г.","н.г.","к.г.","н.г.","к.г.","н.г.","к.г.","н.г.","к.г.","н.г.","к.г."]
[1,"Иванов",2,3,2,3,4,5,3,4,{"$f":"(C8+E8+G8+I8)/4","v":2.75},{"$f":"(D8+F8+H8+J8)/4","v":3.75},2,3,3,4,3,4,3,4,2,3,4,5,4,5,3,4,{"$f":"(M8+O8+Q8+S8+U8+W8+Y8+AA8)/8","v":{"v":3,"d":"3.00"}},{"$f":"(N8+P8+R8+T8+V8+X8+Z8+AB8)/8","v":{"v":4,"d":"4.00"}}]
[2,"Петров",{"$nulls":8},{"$f":"(C9+E9+G9+I9)/4","v":{"v":0,"d":"0.00"}},{"$f":"(D9+F9+H9+J9)/4","v":{"v":0,"d":"0.00"}},{"$nulls":16},{"$f":"(M9+O9+Q9+S9+U9+W9+Y9+AA9)/8","v":{"v":0,"d":"0.00"}},{"$f":"(N9+P9+R9+T9+V9+X9+Z9+AB9)/8","v":{"v":0,"d":"0.00"}}]
[3,"Сидоров",{"$nulls":8},{"v":0,"d":"0.00"},{"v":0,"d":"0.00"},{"$nulls":16},{"v":0,"d":"0.00"},{"v":0,"d":"0.00"}]
[4,{"$nulls":9},{"v":0,"d":"0.00"},{"v":0,"d":"0.00"},{"$nulls":16},{"v":0,"d":"0.00"},{"v":0,"d":"0.00"}]
[5,{"$nulls":9},{"v":0,"d":"0.00"},{"v":0,"d":"0.00"},{"$nulls":16},{"v":0,"d":"0.00"},{"v":0,"d":"0.00"}]
[6,{"$nulls":9},{"v":0,"d":"0.00"},{"v":0,"d":"0.00"},{"$nulls":16},{"v":0,"d":"0.00"},{"v":0,"d":"0.00"}]
[7,{"$nulls":9},{"v":0,"d":"0.00"},{"v":0,"d":"0.00"},{"$nulls":16},{"v":0,"d":"0.00"},{"v":0,"d":"0.00"}]
[8,{"$nulls":9},{"v":0,"d":"0.00"},{"v":0,"d":"0.00"},{"$nulls":16},{"v":0,"d":"0.00"},{"v":0,"d":"0.00"}]
[9,{"$nulls":9},{"v":0,"d":"0.00"},{"v":0,"d":"0.00"},{"$nulls":16},{"v":0,"d":"0.00"},{"v":0,"d":"0.00"}]
[10,{"$nulls":9},{"v":0,"d":"0.00"},{"v":0,"d":"0.00"},{"$nulls":16},{"v":0,"d":"0.00"},{"v":0,"d":"0.00"}]
[11,{"$nulls":9},{"v":0,"d":"0.00"},{"v":0,"d":"0.00"},{"$nulls":16},{"v":0,"d":"0.00"},{"v":0,"d":"0.00"}]
[12,{"$nulls":9},{"v":0,"d":"0.00"},{"v":0,"d":"0.00"},{"$nulls":16},{"v":0,"d":"0.00"},{"v":0,"d":"0.00"}]
[13,{"$nulls":9},{"v":0,"d":"0.00"},{"v":0,"d":"0.00"},{"$nulls":16},{"v":0,"d":"0.00"},{"v":0,"d":"0.00"}]
[14,{"$nulls":9},{"v":0,"d":"0.00"},{"v":0,"d":"0.00"},{"$nulls":16},{"v":0,"d":"0.00"},{"v":0,"d":"0.00"}]
[15,{"$nulls":9},{"v":0,"d":"0.00"},{"v":0,"d":"0.00"},{"$nulls":16},{"v":0,"d":"0.00"},{"v":0,"d":"0.00"}]
[16,{"$nulls":9},{"v":0,"d":"0.00"},{"v":0,"d":"0.00"},{"$nulls":16},{"v":0,"d":"0.00"},{"v":0,"d":"0.00"}]
[17,{"$nulls":9},{"v":0,"d":"0.00"},{"v":0,"d":"0.00"},{"$nulls":16},{"v":0,"d":"0.00"},{"v":0,"d":"0.00"}]
[18,{"$nulls":9},{"v":0,"d":"0.00"},{"v":0,"d":"0.00"},{"$nulls":16},{"v":0,"d":"0.00"},{"v":0,"d":"0.00"}]
[19,{"$nulls":9},{"v":0,"d":"0.00"},{"v":0,"d":"0.00"},{"$nulls":16},{"v":0,"d":"0.00"},{"v":0,"d":"0.00"}]
[20,{"$nulls":9},{"v":0,"d":"0.00"},{"v":0,"d":"0.00"},{"$nulls":16},{"v":0,"d":"0.00"},{"v":0,"d":"0.00"}]
[21,{"$nulls":9},{"v":0,"d":"0.00"},{"v":0,"d":"0.00"},{"$nulls":16},{"v":0,"d":"0.00"},{"v":0,"d":"0.00"}]
[22,{"$nulls":9},{"v":0,"d":"0.00"},{"v":0,"d":"0.00"},{"$nulls":16},{"v":0,"d":"0.00"},{"v":0,"d":"0.00"}]
[23,{"$nulls":9},{"v":0,"d":"0.00"},{"v":0,"d":"0.00"},{"$nulls":16},{"v":0,"d":"0.00"},{"v":0,"d":"0.00"}]
[24,{"$nulls":9},{"v":0,"d":"0.00"},{"v":0,"d":"0.00"},{"$nulls":16},{"v":0,"d":"0.00"},{"v":0,"d":"0.00"}]
[null,"среднее значение:",{"$f":"(C8+C9+C10+C11+C12+C13+C14+C15+C16+C17+C18+C19+C20+C21+C22+C23+C24+C25+C26+C27+C28+C29+C30+C31)/COUNTA($B$8:$B$31)","v":{"v":0.6666666666666666,"d":"0.67"}},{"$f":"(D8+D9+D10+D11+D12+D13+D14+D15+D16+D17+D18+D19+D20+D21+D22+D23+D24+D25+D26+D27+D28+D29+D30+D31)/COUNTA($B$8:$B$31)","v":{"v":1,"d":"1.00"}},{"v":0.6666666666666666,"d":"0.67"},{"v":1,"d":"1.00"},{"v":1.3333333333333333,"d":"1.33"},{"v":1.6666666666666667,"d":"1.67"},{"v":1,"d":"1.00"},{"v":1.3333333333333333,"d":"1.33"},{"v":0.9166666666666666,"d":"0.92"},1.25,{"v":0.6666666666666666,"d":"0.67"},{"v":1,"d":"1.00"},{"v":1,"d":"1.00"},{"v":1.3333333333333333,"d":"1.33"},{"v":1,"d":"1.00"},{"v":1.3333333333333333,"d":"1.33"},{"v":1,"d":"1.00"},{"v":1.3333333333333333,"d":"1.33"},{"v":0.6666666666666666,"d":"0.67"},{"v":1,"d":"1.00"},{"v":1.3333333333333333,"d":"1.33"},{"v":1.6666666666666667,"d":"1.67"},{"v":1.3333333333333333,"d":"1.33"},{"v":1.6666666666666667,"d":"1.67"},{"v":1,"d":"1.00"},{"v":1.3333333333333333,"d":"1.33"},{"v":0.9999999999999999,"d":"1.00"},{"v":1.3333333333333333,"d":"1.33"}]
[null,"начало года",{"$nulls":10},"начало года"]
[null,null,"всего","норма","ниже нормы","низкий ",{"$nulls":9},"всего","норма","ниже нормы","низкий "]
[null,"количество детей",{"$f":"COUNTA($B$8:$B$31)","v":3},{"$f":"COUNTIF(AC8:AC31,\">=3,8\")","v":0},{"$f":"COUNTIFS(AC8:AC31,\"<3,7\",AC8:AC31,\">=2,3\")","v":1},{"$f":"COUNTIFS(AC8:AC31,\"<2,2\",AC8:AC31,\">0\")","v":0},{"$nulls":6},"количество детей",null,null,{"$f":"COUNTA($B$8:$B$31)","v":3},{"$f":"COUNTIF(AC8:AC31,\">=3,8\")","v":0},{"$f":"COUNTIFS(AC8:AC31,\"<3,7\",AC8:AC31,\">=2,3\")","v":1},{"$f":"COUNTIFS(AC8:AC31,\"<2,2\",AC8:AC31,\">0\")","v":0}]
[null,"%",100,{"$f":"D35*C36/C35","v":{"v":0,"d":"0.00"}},{"$f":"E35*C36/C35","v":{"v":33.333333333333336,"d":"33.33"}},{"$f":"F35*C36/C35","v":{"v":0,"d":"0.00"}},{"$nulls":6},"%",null,null,100,{"$f":"Q35*P36/P35","v":{"v":0,"d":"0.00"}},{"$f":"R35*P36/P35","v":{"v":33.333333333333336,"d":"33.33"}},{"$f":"S35*P36/P35","v":{"v":0,"d":"0.00"}}]
[]
[null,"конец года",{"$nulls":10},"конец года"]
[null,null,"всего","норма","ниже нормы","низкий ",{"$nulls":9},"всего","норма","ниже нормы","низкий "]
[null,"количество детей",{"$f":"COUNTA($B$8:$B$31)","v":3},{"$f":"COUNTIF(AD8:AD31,\">=3,8\")","v":1},{"$f":"COUNTIFS(AD8:AD31,\"<3,7\",AD8:AD31,\">=2,3\")","v":0},{"$f":"COUNTIFS(AD8:AD31,\"<2,2\",AD8:AD31,\">0\")","v":0},{"$nulls":6},"количество детей",null,null,{"$f":"COUNTA($B$8:$B$31)","v":3},{"$f":"COUNTIF(AD8:AD31,\">=3,8\")","v":1},{"$f":"COUNTIFS(AD8:AD31,\"<3,7\",AD8:AD31,\">=2,3\")","v":0},{"$f":"COUNTIFS(AD8:AD31,\"<2,2\",AD8:AD31,\">0\")","v":0}]
[null,"%",100,{"$f":"D40*C41/C40","v":{"v":33.333333333333336,"d":"33.33"}},{"$f":"E40*C41/C40","v":{"v":0,"d":"0.00"}},{"$f":"F40*C41/C40","v":{"v":0,"d":"0.00"}},{"$nulls":6},"%",null,null,100,{"$f":"Q40*P41/P40","v":{"v":33.333333333333336,"d":"33.33"}},{"$f":"R40*P41/P40","v":{"v":0,"d":"0.00"}},{"$f":"S40*P41/P40","v":{"v":0,"d":"0.00"}}]

{"sheet":"ХЭ-2","index":15,"n_rows":40,"n_cols":15,"rows_kept":40,"merged":[[0,12,0,13],[2,1,4,1],[2,2,4,2],[2,3,3,4],[2,5,3,6],[2,7,3,8],[2,9,3,10],[2,11,3,12],[2,13,3,14]]}
[null,"НАПРАВЛЕНИЕ 3. КОНСТРУКТИВНАЯ ДЕЯТЕЛЬНОСТЬ",{"$nulls":10},"ОГЛАВЛЕНИЕ"]
[]
[null,"№п/п","ФИ ребенка","Знает, называет и правильно использует детали строительного материала. Изменяет постройки, надстраивая или заменяя одни детали другими",null,"Сооружает постройки по собственному замыслу",null,"Обыгрывает постройки, объединяя их по сюжету",null,"Знает свойства песна, снега при сооружении построек",null,"После игры аккуратно складывает детали в коробки",null,"среднее значение "]
[]
[{"$nulls":3},"н.г.","к.г.","н.г.","к.г.","н.г.","к.г.","н.г.","к.г.","н.г.","к.г.","н.г.","к.г."]
[null,1,"Иванов",{"$nulls":10},{"$f":"(D6+F6+H6+J6+L6)/4","v":{"v":0,"d":"0.00"}},{"$f":"(E6+G6+I6+K6+M6)/4","v":{"v":0,"d":"0.00"}}]
[null,2,"Петров",{"$nulls":10},{"$f":"(D7+F7+H7+J7+L7)/4","v":{"v":0,"d":"0.00"}},{"$f":"(E7+G7+I7+K7+M7)/4","v":{"v":0,"d":"0.00"}}]
[null,3,"Сидоров",{"$nulls":10},{"v":0,"d":"0.00"},{"v":0,"d":"0.00"}]
[null,4,{"$nulls":11},{"v":0,"d":"0.00"},{"v":0,"d":"0.00"}]
[null,5,{"$nulls":11},{"v":0,"d":"0.00"},{"v":0,"d":"0.00"}]
[null,6,{"$nulls":11},{"v":0,"d":"0.00"},{"v":0,"d":"0.00"}]
[null,7,{"$nulls":11},{"v":0,"d":"0.00"},{"v":0,"d":"0.00"}]
[null,8,{"$nulls":11},{"v":0,"d":"0.00"},{"v":0,"d":"0.00"}]
[null,9,{"$nulls":11},{"v":0,"d":"0.00"},{"v":0,"d":"0.00"}]
[null,10,{"$nulls":11},{"v":0,"d":"0.00"},{"v":0,"d":"0.00"}]
[null,11,{"$nulls":11},{"v":0,"d":"0.00"},{"v":0,"d":"0.00"}]
[null,12,{"$nulls":11},{"v":0,"d":"0.00"},{"v":0,"d":"0.00"}]
[null,13,{"$nulls":11},{"v":0,"d":"0.00"},{"v":0,"d":"0.00"}]
[null,14,{"$nulls":11},{"v":0,"d":"0.00"},{"v":0,"d":"0.00"}]
[null,15,{"$nulls":11},{"v":0,"d":"0.00"},{"v":0,"d":"0.00"}]
[null,16,{"$nulls":11},{"v":0,"d":"0.00"},{"v":0,"d":"0.00"}]
[null,17,{"$nulls":11},{"v":0,"d":"0.00"},{"v":0,"d":"0.00"}]
[null,18,{"$nulls":11},{"v":0,"d":"0.00"},{"v":0,"d":"0.00"}]
[null,19,{"$nulls":11},{"v":0,"d":"0.00"},{"v":0,"d":"0.00"}]
[null,20,{"$nulls":11},{"v":0,"d":"0.00"},{"v":0,"d":"0.00"}]
[null,21,{"$nulls":11},{"v":0,"d":"0.00"},{"v":0,"d":"0.00"}]
[null,22,{"$nulls":11},{"v":0,"d":"0.00"},{"v":0,"d":"0.00"}]
[null,23,{"$nulls":11},{"v":0,"d":"0.00"},{"v":0,"d":"0.00"}]
[null,24,{"$nulls":11},{"v":0,"d":"0.00"},{"v":0,"d":"0.00"}]
[null,null,"среднее значение:",{"$f":"(D6+D7+D8+D9+D10+D11+D12+D13+D14+D15+D16+D17+D18+D19+D20+D21+D22+D23+D24+D25+D26+D27+D28+D29)/COUNTA($C$6:$C$29)","v":{"v":0,"d":"0.00"}},{"$f":"(E6+E7+E8+E9+E10+E11+E12+E13+E14+E15+E16+E17+E18+E19+E20+E21+E22+E23+E24+E25+E26+E27+E28+E29)/COUNTA($C$6:$C$29)","v":{"v":0,"d":"0.00"}},{"v":0,"d":"0.00"},{"v":0,"d":"0.00"},{"v":0,"d":"0.00"},{"v":0,"d":"0.00"},{"v":0,"d":"0.00"},{"v":0,"d":"0.00"},{"v":0,"d":"0.00"},{"v":0,"d":"0.00"},{"v":0,"d":"0.00"},{"v":0,"d":"0.00"}]
[]
[null,null,"начало года"]
[{"$nulls":3},"всего","норма","ниже нормы","низкий "]
[null,null,"количество детей",{"$f":"COUNTA($C$6:$C$29)","v":3},{"$f":"COUNTIF(N6:N29,\">=3,8\")","v":0},{"$f":"COUNTIFS(N6:N29,\"<3,7\",N6:N29,\">=2,3\")","v":0},{"$f":"COUNTIFS(N6:N29,\"<2,2\",N6:N29,\">0\")","v":0}]
[null,null,"%",100,{"$f":"E34*D35/D34","v":{"v":0,"d":"0.00"}},{"$f":"F34*D35/D34","v":{"v":0,"d":"0.00"}},{"$f":"G34*D35/D34","v":{"v":0,"d":"0.00"}}]
[]
[null,null,"конец года"]
[{"$nulls":3},"всего","норма","ниже нормы","низкий "]
[null,null,"количество детей",{"$f":"COUNTA($C$6:$C$29)","v":3},{"$f":"COUNTIF(O6:O29,\">=3,8\")","v":0},{"$f":"COUNTIFS(O6:O29,\"<3,7\",O6:O29,\">=2,3\")","v":0},{"$f":"COUNTIFS(O6:O29,\"<2,2\",O6:O29,\">0\")","v":0}]
[null,null,"%",100,{"$f":"E39*D40/D39","v":{"v":0,"d":"0.00"}},{"$f":"F39*D40/D39","v":{"v":0,"d":"0.00"}},{"$f":"G39*D40/D39","v":{"v":0,"d":"0.00"}}]

{"sheet":"ХЭ-3","index":16,"n_rows":40,"n_cols":25,"rows_kept":40,"merged":[[0,21,0,22],[2,1,4,1],[2,2,4,2],[2,3,2,8],[2,9,2,12],[2,13,2,14],[2,15,2,18],[2,19,2,22],[2,23,3,24],[3,3,3,4],[3,5,3,6],[3,7,3,8],[3,9,3,10],[3,11,3,12],[3,13,3,14],[3,15,3,16],[3,17,3,18],[3,19,3,20],[3,21,3,22]]}
[null,"НАПРАВЛЕНИЕ 4. МУЗЫКАЛЬНАЯ ДЕЯТЕЛЬНОСТЬ",{"$nulls":19},"ОГЛАВЛЕНИЕ"]
[]
[null,"№п/п","ФИ ребенка","Слушание",{"$nulls":5},"Пение",{"$nulls":3},"Песенное творчество",null,"Музыкально-ритмические движения",{"$nulls":3},"Игра на ДМИ",{"$nulls":3},"среднее значение "]
[{"$nulls":3},"Слушает музыкальное произведение до конца, понимает характер музыки",null,"Различает звуки по высоте в пределах октавы - септимы, замечает изменения в силе звучания мелодии (громко, тихо)",null,"Различает звучание муз.игрушек, ДМИ",null,"Поет без напряжения в диапазоне ре(ми) - ля(си) в одном темпе со всеми",null,"Передает характер музыки (весело, протяжно, ласково, напевно)",null,"Допевает мелодии колыбельных песен на  слог \"баю-баю\" и веселых мелодий на слог \"ля-ля\"",null,"Умеет выполнять танцевальные движения: кружиться в парах, притоптывать попеременно ногами, двигаться под музыку с предметами",null,"Умеет передавать в движениях характер изображаемых животных",null,"Различает и называет музыкальные инструменты: дудочка, металлофон, колокольчик, бубен, погремушка, барабан,",null,"Старается подыгрывать на ДМИ"]
[{"$nulls":3},"н.г.","к.г.","н.г.","к.г.","н.г.","к.г.","н.г.","к.г.","н.г.","к.г.","н.г.","к.г.","н.г.","к.г.","н.г.","к.г.","н.г.","к.г.","н.г.","к.г.","н.г.","к.г."]
[null,1,"Иванов",3,4,3,4,4,5,4,5,3,4,4,5,3,4,4,5,3,4,3,4,{"$f":"(D6+F6+H6+J6+L6+N6+P6+R6+T6+V6)/10","v":{"v":3.4,"d":"3.40"}},{"$f":"(E6+G6+I6+K6+M6+O6+Q6+S6+U6+W6)/10","v":{"v":4.4,"d":"4.40"}}]
[null,2,"Петров",2,3,2,3,2,3,2,3,1,2,1,2,2,3,2,3,1,2,1,2,{"$f":"(D7+F7+H7+J7+L7+N7+P7+R7+T7+V7)/10","v":{"v":1.6,"d":"1.60"}},{"$f":"(E7+G7+I7+K7+M7+O7+Q7+S7+U7+W7)/10","v":{"v":2.6,"d":"2.60"}}]
[null,3,"Сидоров",3,4,3,4,3,4,3,4,3,4,3,4,3,4,3,4,3,4,3,4,{"v":3,"d":"3.00"},{"v":4,"d":"4.00"}]
[null,4,{"$nulls":21},{"v":0,"d":"0.00"},{"v":0,"d":"0.00"}]
[null,5,{"$nulls":21},{"v":0,"d":"0.00"},{"v":0,"d":"0.00"}]
[null,6,{"$nulls":21},{"v":0,"d":"0.00"},{"v":0,"d":"0.00"}]
[null,7,{"$nulls":21},{"v":0,"d":"0.00"},{"v":0,"d":"0.00"}]
[null,8,{"$nulls":21},{"v":0,"d":"0.00"},{"v":0,"d":"0.00"}]
[null,9,{"$nulls":21},{"v":0,"d":"0.00"},{"v":0,"d":"0.00"}]
[null,10,{"$nulls":21},{"v":0,"d":"0.00"},{"v":0,"d":"0.00"}]
[null,11,{"$nulls":21},{"v":0,"d":"0.00"},{"v":0,"d":"0.00"}]
[null,12,{"$nulls":21},{"v":0,"d":"0.00"},{"v":0,"d":"0.00"}]
[null,13,{"$nulls":21},{"v":0,"d":"0.00"},{"v":0,"d":"0.00"}]
[null,14,{"$nulls":21},{"v":0,"d":"0.00"},{"v":0,"d":"0.00"}]
[null,15,{"$nulls":21},{"v":0,"d":"0.00"},{"v":0,"d":"0.00"}]
[null,16,{"$nulls":21},{"v":0,"d":"0.00"},{"v":0,"d":"0.00"}]
[null,17,{"$nulls":21},{"v":0,"d":"0.00"},{"v":0,"d":"0.00"}]
[null,18,{"$nulls":21},{"v":0,"d":"0.00"},{"v":0,"d":"0.00"}]
[null,19,{"$nulls":21},{"v":0,"d":"0.00"},{"v":0,"d":"0.00"}]
[null,20,{"$nulls":21},{"v":0,"d":"0.00"},{"v":0,"d":"0.00"}]
[null,21,{"$nulls":21},{"v":0,"d":"0.00"},{"v":0,"d":"0.00"}]
[null,22,{"$nulls":21},{"v":0,"d":"0.00"},{"v":0,"d":"0.00"}]
[null,23,{"$nulls":21},{"v":0,"d":"0.00"},{"v":0,"d":"0.00"}]
[null,24,{"$nulls":21},{"v":0,"d":"0.00"},{"v":0,"d":"0.00"}]
[null,null,"среднее значение:",{"$f":"(D6+D7+D8+D9+D10+D11+D12+D13+D14+D15+D16+D17+D18+D19+D20+D21+D22+D23+D24+D25+D26+D27+D28+D29)/COUNTA($C$6:$C$29)","v":{"v":2.6666666666666665,"d":"2.67"}},{"$f":"(E6+E7+E8+E9+E10+E11+E12+E13+E14+E15+E16+E17+E18+E19+E20+E21+E22+E23+E24+E25+E26+E27+E28+E29)/COUNTA($C$6:$C$29)","v":{"v":3.6666666666666665,"d":"3.67"}},{"v":2.6666666666666665,"d":"2.67"},{"v":3.6666666666666665,"d":"3.67"},{"v":3,"d":"3.00"},{"v":4,"d":"4.00"},{"v":3,"d":"3.00"},{"v":4,"d":"4.00"},{"v":2.3333333333333335,"d":"2.33"},{"v":3.3333333333333335,"d":"3.33"},{"v":2.6666666666666665,"d":"2.67"},{"v":3.6666666666666665,"d":"3.67"},{"v":2.6666666666666665,"d":"2.67"},{"v":3.6666666666666665,"d":"3.67"},{"v":3,"d":"3.00"},{"v":4,"d":"4.00"},{"v":2.3333333333333335,"d":"2.33"},{"v":3.3333333333333335,"d":"3.33"},{"v":2.3333333333333335,"d":"2.33"},{"v":3.3333333333333335,"d":"3.33"},{"v":2.6666666666666665,"d":"2.67"},{"v":3.666666666666667,"d":"3.67"}]
[]
[null,null,"начало года"]
[{"$nulls":3},"всего","норма","ниже нормы","низкий "]
[null,null,"количество детей",{"$f":"COUNTA($C$6:$C$29)","v":3},{"$f":"COUNTIF(X6:X29,\">=3,8\")","v":0},{"$f":"COUNTIFS(X6:X29,\"<3,7\",X6:X29,\">=2,3\")","v":2},{"$f":"COUNTIFS(X6:X29,\"<2,2\",X6:X29,\">0\")","v":1}]
[null,null,"%",100,{"$f":"E34*D35/D34","v":{"v":0,"d":"0.00"}},{"$f":"F34*D35/D34","v":{"v":66.66666666666667,"d":"66.67"}},{"$f":"G34*D35/D34","v":{"v":33.333333333333336,"d":"33.33"}}]
[]
[null,null,"конец года"]
[{"$nulls":3},"всего","норма","ниже нормы","низкий "]
[null,null,"количество детей",{"$f":"COUNTA($C$5:$C$28)","v":3},{"$f":"COUNTIF(Y6:Y29,\">=3,8\")","v":2},{"$f":"COUNTIFS(Y6:Y29,\"<3,7\",Y6:Y29,\">=2,3\")","v":1},{"$f":"COUNTIFS(Y6:Y29,\"<2,2\",Y6:Y29,\">0\")","v":0}]
[null,null,"%",100,{"$f":"E39*D40/D39","v":{"v":66.66666666666667,"d":"66.67"}},{"$f":"F39*D40/D39","v":{"v":33.333333333333336,"d":"33.33"}},{"$f":"G39*D40/D39","v":{"v":0,"d":"0.00"}}]

{"sheet":"ХЭ-4","index":17,"n_rows":40,"n_cols":14,"rows_kept":40,"merged":[[1,12,1,13],[2,0,4,0],[2,1,4,1],[2,2,2,5],[2,6,3,7],[2,8,2,11],[2,12,3,13],[3,2,3,3],[3,4,3,5],[3,8,3,9],[3,10,3,11],[32,7,32,9],[33,7,33,9],[34,7,34,9],[35,7,35,9],[36,7,36,9],[37,7,37,9],[38,7,38,9],[39,7,39,9]]}
["НАПРАВЛЕНИЕ 5,6. ТЕАТРАЛИЗОВАННАЯ И КУЛЬТУРНО-ДОСУГОВАЯ ДЕЯТЕЛЬНОСТЬ"]
[{"$nulls":12},"ОГЛАВЛЕНИЕ"]
["№п/п","ФИ ребенка","Театрализованная деятельность",{"$nulls":3},"среднее значение ",null,"Культурно-досуговая деятельность",{"$nulls":3},"среднее значение "]
[null,null,"Умеет передавать характеристики персонажей (ласковая кошечка, мишка косолапый)",null,"В играх-драматизациях следит за сюжетом",{"$nulls":3},"Проявляет интерес к различным видам досуговой деятельности",null,"С удовольствием участвует в праздниках, развлечениях и тд"]
[null,null,"н.г.","к.г.","н.г.","к.г.","н.г.","к.г.","н.г.","к.г.","н.г.","к.г.","н.г.","к.г."]
[1,"Иванов",{"$nulls":4},{"$f":"(C6+E6)/2","v":{"v":0,"d":"0.00"}},{"$f":"(D6+F6)/2","v":{"v":0,"d":"0.00"}},{"$nulls":4},{"$f":"(I6+K6)/2","v":{"v":0,"d":"0.00"}},{"v":0,"d":"0.00"}]
[2,"Петров",{"$nulls":4},{"$f":"(C7+E7)/2","v":{"v":0,"d":"0.00"}},{"v":0,"d":"0.00"},{"$nulls":4},{"v":0,"d":"0.00"},{"v":0,"d":"0.00"}]
[3,"Сидоров",{"$nulls":4},{"v":0,"d":"0.00"},{"v":0,"d":"0.00"},{"$nulls":4},{"v":0,"d":"0.00"},{"v":0,"d":"0.00"}]
[4,{"$nulls":5},{"v":0,"d":"0.00"},{"v":0,"d":"0.00"},{"$nulls":4},{"v":0,"d":"0.00"},{"v":0,"d":"0.00"}]
[5,{"$nulls":5},{"v":0,"d":"0.00"},{"v":0,"d":"0.00"},{"$nulls":4},{"v":0,"d":"0.00"},{"v":0,"d":"0.00"}]
[6,{"$nulls":5},{"v":0,"d":"0.00"},{"v":0,"d":"0.00"},{"$nulls":4},{"v":0,"d":"0.00"},{"v":0,"d":"0.00"}]
[7,{"$nulls":5},{"v":0,"d":"0.00"},{"v":0,"d":"0.00"},{"$nulls":4},{"v":0,"d":"0.00"},{"v":0,"d":"0.00"}]
[8,{"$nulls":5},{"v":0,"d":"0.00"},{"v":0,"d":"0.00"},{"$nulls":4},{"v":0,"d":"0.00"},{"v":0,"d":"0.00"}]
[9,{"$nulls":5},{"v":0,"d":"0.00"},{"v":0,"d":"0.00"},{"$nulls":4},{"v":0,"d":"0.00"},{"v":0,"d":"0.00"}]
[10,{"$nulls":5},{"v":0,"d":"0.00"},{"v":0,"d":"0.00"},{"$nulls":4},{"v":0,"d":"0.00"},{"v":0,"d":"0.00"}]
[11,{"$nulls":5},{"v":0,"d":"0.00"},{"v":0,"d":"0.00"},{"$nulls":4},{"v":0,"d":"0.00"},{"v":0,"d":"0.00"}]
[12,{"$nulls":5},{"v":0,"d":"0.00"},{"v":0,"d":"0.00"},{"$nulls":4},{"v":0,"d":"0.00"},{"v":0,"d":"0.00"}]
[13,{"$nulls":5},{"v":0,"d":"0.00"},{"v":0,"d":"0.00"},{"$nulls":4},{"v":0,"d":"0.00"},{"v":0,"d":"0.00"}]
[14,{"$nulls":5},{"v":0,"d":"0.00"},{"v":0,"d":"0.00"},{"$nulls":4},{"v":0,"d":"0.00"},{"v":0,"d":"0.00"}]
[15,{"$nulls":5},{"v":0,"d":"0.00"},{"v":0,"d":"0.00"},{"$nulls":4},{"v":0,"d":"0.00"},{"v":0,"d":"0.00"}]
[16,{"$nulls":5},{"v":0,"d":"0.00"},{"v":0,"d":"0.00"},{"$nulls":4},{"v":0,"d":"0.00"},{"v":0,"d":"0.00"}]
[17,{"$nulls":5},{"v":0,"d":"0.00"},{"v":0,"d":"0.00"},{"$nulls":4},{"v":0,"d":"0.00"},{"v":0,"d":"0.00"}]
[18,{"$nulls":5},{"v":0,"d":"0.00"},{"v":0,"d":"0.00"},{"$nulls":4},{"v":0,"d":"0.00"},{"v":0,"d":"0.00"}]
[19,{"$nulls":5},{"v":0,"d":"0.00"},{"v":0,"d":"0.00"},{"$nulls":4},{"v":0,"d":"0.00"},{"v":0,"d":"0.00"}]
[20,{"$nulls":5},{"v":0,"d":"0.00"},{"v":0,"d":"0.00"},{"$nulls":4},{"v":0,"d":"0.00"},{"v":0,"d":"0.00"}]
[21,{"$nulls":5},{"v":0,"d":"0.00"},{"v":0,"d":"0.00"},{"$nulls":4},{"v":0,"d":"0.00"},{"v":0,"d":"0.00"}]
[22,{"$nulls":5},{"v":0,"d":"0.00"},{"v":0,"d":"0.00"},{"$nulls":4},{"v":0,"d":"0.00"},{"v":0,"d":"0.00"}]
[23,{"$nulls":5},{"v":0,"d":"0.00"},{"v":0,"d":"0.00"},{"$nulls":4},{"v":0,"d":"0.00"},{"v":0,"d":"0.00"}]
[24,{"$nulls":5},{"v":0,"d":"0.00"},{"v":0,"d":"0.00"},{"$nulls":4},{"v":0,"d":"0.00"},{"v":0,"d":"0.00"}]
[null,"среднее значение:",{"$f":"(C6+C7+C8+C9+C10+C11+C12+C13+C14+C15+C16+C17+C18+C19+C20+C21+C22+C23+C24+C25+C26+C27+C28+C29)/COUNTA($B$6:$B$29)","v":{"v":0,"d":"0.00"}},{"$f":"(D6+D7+D8+D9+D10+D11+D12+D13+D14+D15+D16+D17+D18+D19+D20+D21+D22+D23+D24+D25+D26+D27+D28+D29)/COUNTA($B$6:$B$29)","v":{"v":0,"d":"0.00"}},{"v":0,"d":"0.00"},{"v":0,"d":"0.00"},{"$f":"(C30+E30)/2","v":{"v":0,"d":"0.00"}},{"$f":"(D30+F30)/2","v":{"v":0,"d":"0.00"}},{"v":0,"d":"0.00"},{"v":0,"d":"0.00"},{"v":0,"d":"0.00"},{"v":0,"d":"0.00"},{"$f":"(I30+K30)/2","v":{"v":0,"d":"0.00"}},{"$f":"(J30+L30)/2","v":{"v":0,"d":"0.00"}}]
[]
[null,"ТЕАТРАЛИЗОВАННАЯ ДЕЯТЕЛЬНОСТЬ:",{"$nulls":5},"КУЛЬТУРНО-ДОСУГОВАЯ ДЕЯТЕЛЬНОСТЬ:"]
[null,"начало года",{"$nulls":5},"начало года"]
[null,null,"всего","норма","ниже нормы","низкий ",{"$nulls":4},"всего","норма","ниже нормы","низкий "]
[null,"количество детей",{"$f":"COUNTA($B$6:$B$29)","v":3},{"$f":"COUNTIF(G6:G29,\">=3,8\")","v":0},{"$f":"COUNTIFS(G6:G29,\"<3,7\",G6:G29,\">=2,3\")","v":0},{"$f":"COUNTIFS(G6:G29,\"<2,2\",G6:G29,\">0\")","v":0},null,"количество детей",null,null,{"$f":"COUNTA(B6:B29)","v":3},{"$f":"COUNTIF(M9:M29,\">=3,8\")","v":0},{"$f":"COUNTIFS(M9:M29,\"<3,7\",M9:M29,\">=2,3\")","v":0},{"$f":"COUNTIFS(M9:M29,\"<2,2\",M9:M29,\">0\")","v":0}]
[null,"%",100,{"$f":"D35*C36/C35","v":{"v":0,"d":"0.00"}},{"$f":"E35*C36/C35","v":{"v":0,"d":"0.00"}},{"$f":"F35*C36/C35","v":{"v":0,"d":"0.00"}},null,"%",null,null,100,{"$f":"L35*K36/K35","v":{"v":0,"d":"0.00"}},{"$f":"M35*K36/K35","v":{"v":0,"d":"0.00"}},{"$f":"N35*K36/K35","v":{"v":0,"d":"0.00"}}]
[null,"конец года",{"$nulls":5},"конец года"]
[null,null,"всего","норма","ниже нормы","низкий ",{"$nulls":4},"всего","норма","ниже нормы","низкий "]
[null,"количество детей",{"$f":"COUNTA(B5:B28)","v":3},{"$f":"COUNTIF(H6:H29,\">=3,8\")","v":0},{"$f":"COUNTIFS(H6:H29,\"<3,7\",H6:H29,\">=2,3\")","v":0},{"$f":"COUNTIFS(H6:H29,\"<2,2\",H6:H29,\">0\")","v":0},null,"количество детей",null,null,{"$f":"COUNTA(B6:B29)","v":3},{"$f":"COUNTIF(N9:N29,\">=3,8\")","v":0},{"$f":"COUNTIFS(N9:N29,\"<3,7\",N9:N29,\">=2,3\")","v":0},{"$f":"COUNTIFS(N9:N29,\"<2,2\",N9:N29,\">0\")","v":0}]
[null,"%",100,{"$f":"D39*C40/C39","v":{"v":0,"d":"0.00"}},{"$f":"E39*C40/C39","v":{"v":0,"d":"0.00"}},{"$f":"F39*C40/C39","v":{"v":0,"d":"0.00"}},null,"%",null,null,100,{"$f":"L39*K40/K39","v":{"v":0,"d":"0.00"}},{"$f":"M39*K40/K39","v":{"v":0,"d":"0.00"}},{"$f":"N39*K40/K39","v":{"v":0,"d":"0.00"}}]

{"sheet":"ИТОГ ХЭ","index":18,"n_rows":37,"n_cols":8,"rows_kept":37,"merged":[[0,0,0,7],[1,0,1,7],[28,0,28,1],[28,2,28,7],[29,2,29,7],[30,2,30,7],[31,2,31,7],[32,2,32,7],[33,2,33,7],[34,2,34,7],[36,0,36,1],[36,2,36,7],[37,2,37,7],[38,2,38,7],[39,2,39,7],[40,2,40,7],[41,2,41,7],[42,2,42,7]]}
["Обобщение результатов педагогической диагностики по направлениям"]
[" ОО «Художественно-эстетическое развитие»"]
[]
["ОГЛАВЛЕНИЕ","Приобщение к искусству","Изобразительная деятельность","Конструктивная деятельность","Музыкальная деятельность","Театрализованная деятельность","Культурно - досуговая деятельность","Средний балл/уровень "]
[null,1,2,3,4,5,6,"ср.ур."]
["начало",{"$f":"'ХЭ-1'!$K$32","v":{"v":0.9166666666666666,"d":"0.92"}},{"$f":"'ХЭ-1'!$AC$32","v":{"v":0.9999999999999999,"d":"1.00"}},{"$f":"'ХЭ-2'!N30","v":{"v":0,"d":"0.00"}},{"$f":"'ХЭ-3'!X30","v":{"v":2.6666666666666665,"d":"2.67"}},{"$f":"'ХЭ-4'!G30","v":{"v":0,"d":"0.00"}},{"$f":"'ХЭ-4'!M30","v":{"v":0,"d":"0.00"}},{"$f":"(B6+C6+D6+E6+F6+G6)/6","v":{"v":0.7638888888888888,"d":"0.76"}}]
["конец",{"$f":"'ХЭ-1'!$L$32","v":1.25},{"$f":"'ХЭ-1'!$AD$32","v":{"v":1.3333333333333333,"d":"1.33"}},{"$f":"'ХЭ-2'!O30","v":{"v":0,"d":"0.00"}},{"$f":"'ХЭ-3'!Y30","v":{"v":3.666666666666667,"d":"3.67"}},{"$f":"'ХЭ-4'!H30","v":{"v":0,"d":"0.00"}},{"$f":"'ХЭ-4'!N30","v":{"v":0,"d":"0.00"}},{"$f":"(B7+C7+D7+E7+F7+G7)/6","v":{"v":1.0416666666666667,"d":"1.04"}}]
{"$rows_empty":20}
["ВЫВОДЫ:"]
["Начало учебного года:"]
{"$rows_empty":7}
["Конец учебного года:"]

{"sheet":"ФР","index":19,"n_rows":45,"n_cols":28,"rows_kept":45,"merged":[[0,0,0,27],[1,24,1,25],[3,0,5,0],[3,1,5,1],[3,2,4,3],[3,4,4,5],[3,6,4,7],[3,8,4,9],[3,10,4,11],[3,12,4,13],[3,14,4,15],[3,16,4,17],[3,18,4,19],[3,20,4,21],[3,22,4,23],[3,24,4,25],[3,26,4,27],[34,1,35,1],[34,2,35,2],[36,1,37,1],[36,2,37,2],[41,1,42,1],[41,2,42,2],[43,1,44,1],[43,2,44,2]]}
["Образовательная область «Физическое развитие»"]
["НАПРАВЛЕНИЕ I. ОСНОВНАЯ ГИМНАСТИКА. ПОДВИЖНЫЕ ИГРЫ. СПОРТИВНЫЕ УПРАЖНЕНИЯ",{"$nulls":23},"ОГЛАВЛЕНИЕ"]
["НАПРАВЛЕНИЕ 2. ФОРМИРОВАНИЕ ОСНОВ ЗДОРОВОГО ОБРАЗА ЖИЗНИ. АКТИВНЫЙ ОТДЫХ"]
["№п/п","ФИ ребенка","Умеет ходить и бегать, сохраняя равновесие, в разных направлениях по указанию взрослого",null,"Прыгает на двух и на одной ноге; наместе, продвигаясь вперед",null,"Энергично отталкивается в прыжках на двух ногах, прыгает в длину с места",null,"Организованно выполняет строевые упражнеия, находит свое место при перестроении",null,"Выполняет упражнения по показу",null,"Выполняет задания сообща, действует в общем для всех темпе",null,"Катает мяч в заданном направлении с расстояния, бросает мяч двумя руками от груди, из-за головы; ударяет мячом об пол, бросает вверх и ловит; метает предметы правой и левой руками",null,"Соблюдает правила в подвижных играх",null,"среднее значение",null,"Стремится самостоятельно ухаживать за собой, союлюдает порядок и чистоту, ухаживает за своими вещами и игрушками",null,"Соблюдает правила безопасности в двигательной деятельности",null,"Владеет простейшими навыками поведения во время еды, умывания",null,"среднее значение "]
[]
[null,null,"н.г.","к.г.","н.г.","к.г.","н.г.","к.г.","н.г.","к.г.","н.г.","к.г.","н.г.","к.г.","н.г.","к.г.","н.г.","к.г.","н.г.","к.г.","н.г.","к.г.","н.г.","к.г.","н.г.","к.г.","н.г.","к.г."]
[1,"Иванов",2,3,2,3,2,3,2,3,3,4,3,4,2,4,3,5,{"$f":"(C7+E7+G7+I7+K7+M7+O7+Q7)/8","v":{"v":2.375,"d":"2.4"}},{"$f":"(D7+F7+H7+J7+L7+N7+P7+R7)/8","v":{"v":3.625,"d":"3.6"}},3,4,3,4,3,4,{"$f":"(U7+W7+Y7)/3","v":{"v":3,"d":"3.0"}},{"$f":"(V7+X7+Z7)/3","v":{"v":4,"d":"4.0"}}]
[2,"Петров",3,4,2,3,2,3,2,3,2,3,2,3,2,3,2,3,{"$f":"(C8+E8+G8+I8+K8+M8+O8+Q8)/8","v":{"v":2.125,"d":"2.1"}},{"$f":"(D8+F8+H8+J8+L8+N8+P8+R8)/8","v":{"v":3.125,"d":"3.1"}},2,3,2,3,2,3,{"$f":"(U8+W8+Y8)/3","v":{"v":2,"d":"2.0"}},{"$f":"(V8+X8+Z8)/3","v":{"v":3,"d":"3.0"}}]
[3,"Сидоров",{"$nulls":16},{"v":0,"d":"0.0"},{"v":0,"d":"0.0"},{"$nulls":6},{"v":0,"d":"0.0"},{"v":0,"d":"0.0"}]
[4,{"$nulls":17},{"v":0,"d":"0.0"},{"v":0,"d":"0.0"},{"$nulls":6},{"v":0,"d":"0.0"},{"v":0,"d":"0.0"}]
[5,{"$nulls":17},{"v":0,"d":"0.0"},{"v":0,"d":"0.0"},{"$nulls":6},{"v":0,"d":"0.0"},{"v":0,"d":"0.0"}]
[6,{"$nulls":17},{"v":0,"d":"0.0"},{"v":0,"d":"0.0"},{"$nulls":6},{"v":0,"d":"0.0"},{"v":0,"d":"0.0"}]
[7,{"$nulls":17},{"v":0,"d":"0.0"},{"v":0,"d":"0.0"},{"$nulls":6},{"v":0,"d":"0.0"},{"v":0,"d":"0.0"}]
[8,{"$nulls":17},{"v":0,"d":"0.0"},{"v":0,"d":"0.0"},{"$nulls":6},{"v":0,"d":"0.0"},{"v":0,"d":"0.0"}]
[9,{"$nulls":17},{"v":0,"d":"0.0"},{"v":0,"d":"0.0"},{"$nulls":6},{"v":0,"d":"0.0"},{"v":0,"d":"0.0"}]
[10,{"$nulls":17},{"v":0,"d":"0.0"},{"v":0,"d":"0.0"},{"$nulls":6},{"v":0,"d":"0.0"},{"v":0,"d":"0.0"}]
[11,{"$nulls":17},{"v":0,"d":"0.0"},{"v":0,"d":"0.0"},{"$nulls":6},{"v":0,"d":"0.0"},{"v":0,"d":"0.0"}]
[12,{"$nulls":17},{"v":0,"d":"0.0"},{"v":0,"d":"0.0"},{"$nulls":6},{"v":0,"d":"0.0"},{"v":0,"d":"0.0"}]
[13,{"$nulls":17},{"v":0,"d":"0.0"},{"v":0,"d":"0.0"},{"$nulls":6},{"v":0,"d":"0.0"},{"v":0,"d":"0.0"}]
[14,{"$nulls":17},{"v":0,"d":"0.0"},{"v":0,"d":"0.0"},{"$nulls":6},{"v":0,"d":"0.0"},{"v":0,"d":"0.0"}]
[15,{"$nulls":17},{"v":0,"d":"0.0"},{"v":0,"d":"0.0"},{"$nulls":6},{"v":0,"d":"0.0"},{"v":0,"d":"0.0"}]
[16,{"$nulls":17},{"v":0,"d":"0.0"},{"v":0,"d":"0.0"},{"$nulls":6},{"v":0,"d":"0.0"},{"v":0,"d":"0.0"}]
[17,{"$nulls":17},{"v":0,"d":"0.0"},{"v":0,"d":"0.0"},{"$nulls":6},{"v":0,"d":"0.0"},{"v":0,"d":"0.0"}]
[18,{"$nulls":17},{"v":0,"d":"0.0"},{"v":0,"d":"0.0"},{"$nulls":6},{"v":0,"d":"0.0"},{"v":0,"d":"0.0"}]
[19,{"$nulls":17},{"v":0,"d":"0.0"},{"v":0,"d":"0.0"},{"$nulls":6},{"v":0,"d":"0.0"},{"v":0,"d":"0.0"}]
[20,{"$nulls":17},{"v":0,"d":"0.0"},{"v":0,"d":"0.0"},{"$nulls":6},{"v":0,"d":"0.0"},{"v":0,"d":"0.0"}]
[21,{"$nulls":17},{"v":0,"d":"0.0"},{"v":0,"d":"0.0"},{"$nulls":6},{"v":0,"d":"0.0"},{"v":0,"d":"0.0"}]
[22,{"$nulls":17},{"v":0,"d":"0.0"},{"v":0,"d":"0.0"},{"$nulls":6},{"v":0,"d":"0.0"},{"v":0,"d":"0.0"}]
[23,{"$nulls":17},{"v":0,"d":"0.0"},{"v":0,"d":"0.0"},{"$nulls":6},{"v":0,"d":"0.0"},{"v":0,"d":"0.0"}]
[24,{"$nulls":17},{"v":0,"d":"0.0"},{"v":0,"d":"0.0"},{"$nulls":6},{"v":0,"d":"0.0"},{"v":0,"d":"0.0"}]
[null,"среднее значение:",{"$f":"(C7+C8+C9+C10+C11+C12+C13+C14+C15+C16+C17+C18+C19+C20+C21+C22+C23+C24+C25+C26+C27+C28+C29+C30)/COUNTA($B$7:$B$30)","v":{"v":1.6666666666666667,"d":"1.7"}},{"v":2.3333333333333335,"d":"2.3"},{"v":1.3333333333333333,"d":"1.3"},{"v":2,"d":"2.0"},{"v":1.3333333333333333,"d":"1.3"},{"v":2,"d":"2.0"},{"v":1.3333333333333333,"d":"1.3"},{"v":2,"d":"2.0"},{"v":1.6666666666666667,"d":"1.7"},{"v":2.3333333333333335,"d":"2.3"},{"v":1.6666666666666667,"d":"1.7"},{"v":2.3333333333333335,"d":"2.3"},{"v":1.3333333333333333,"d":"1.3"},{"v":2.3333333333333335,"d":"2.3"},{"v":1.6666666666666667,"d":"1.7"},{"v":2.6666666666666665,"d":"2.7"},1.5,{"v":2.2500000000000004,"d":"2.3"},{"$f":"(U7+U8+U9+U10+U11+U12+U13+U14+U15+U16+U17+U18+U19+U20+U21+U22+U23+U24+U25+U26+U27+U28+U29+U30)/COUNTA($B$7:$B$30)","v":{"v":1.6666666666666667,"d":"1.7"}},{"v":2.3333333333333335,"d":"2.3"},{"$f":"(W7+W8+W9+W10+W11+W12+W13+W14+W15+W16+W17+W18+W19+W20+W21+W22+W23+W24+W25+W26+W27+W28+W29+W30)/COUNTA($B$7:$B$30)","v":{"v":1.6666666666666667,"d":"1.7"}},{"v":2.3333333333333335,"d":"2.3"},{"$f":"(Y7+Y8+Y9+Y10+Y11+Y12+Y13+Y14+Y15+Y16+Y17+Y18+Y19+Y20+Y21+Y22+Y23+Y24+Y25+Y26+Y27+Y28+Y29+Y30)/COUNTA($B$7:$B$30)","v":{"v":1.6666666666666667,"d":"1.7"}},{"$f":"(Z7+Z8+Z9+Z10+Z11+Z12+Z13+Z14+Z15+Z16+Z17+Z18+Z19+Z20+Z21+Z22+Z23+Z24+Z25+Z26+Z27+Z28+Z29+Z30)/COUNTA($B$7:$B$30)","v":{"v":2.3333333333333335,"d":"2.3"}},{"v":1.6666666666666667,"d":"1.7"},{"v":2.3333333333333335,"d":"2.3"}]
[]
[null,"начало года"]
[null,null,"всего","норма","ниже нормы","низкий "]
[null,"количество детей",{"$f":"COUNTA($B$7:$B$30)","v":3},{"$f":"COUNTIF(S7:S30,\">=3,8\")","v":0},{"$f":"COUNTIFS(S7:S30,\"<3,7\",S7:S30,\">=2,3\")","v":1},{"$f":"COUNTIFS(S7:S30,\"<2,2\",S7:S30,\">0\")","v":1}]
[{"$nulls":3},{"$f":"COUNTIF(AA7:AA30,\">=3,8\")","v":0},{"$f":"COUNTIFS(AA7:AA30,\"<3,7\",AA7:AA30,\">=2,3\")","v":1},{"$f":"COUNTIFS(AA7:AA30,\"<2,2\",AA7:AA30,\">0\")","v":1}]
[null,"%",100,{"$f":"D35*C37/C35","v":0},{"$f":"E35*C37/C35","v":{"v":33.333333333333336,"d":"33.3"}},{"$f":"F35*C37/C35","v":{"v":33.333333333333336,"d":"33.3"}},"направление 1"]
[{"$nulls":3},{"$f":"D35*C37/C35","v":0},{"$f":"E35*C37/C35","v":{"v":33.333333333333336,"d":"33.3"}},{"$f":"F35*C37/C35","v":{"v":33.333333333333336,"d":"33.3"}},"направление2"]
[]
[null,"конец года"]
[null,null,"всего","норма","ниже нормы","низкий "]
[null,"количество детей",{"$f":"COUNTA(B7:B30)","v":3},{"$f":"COUNTIF(T7:T30,\">=3,8\")","v":0},{"$f":"COUNTIFS(T7:T30,\"<3,7\",T7:T30,\">=2,3\")","v":2},{"$f":"COUNTIFS(T7:T30,\"<2,2\",T7:T30,\">0\")","v":0}]
[{"$nulls":3},{"$f":"COUNTIF(AA14:AA37,\">=3,8\")","v":0},{"$f":"COUNTIFS(AA14:AA37,\"<3,7\",AA14:AA37,\">=2,3\")","v":0},{"$f":"COUNTIFS(AA14:AA37,\"<2,2\",AA14:AA37,\">0\")","v":1}]
[null,"%",100,{"$f":"D42*C44/C42","v":{"v":0,"d":"0.0"}},{"$f":"E42*C44/C42","v":{"v":66.66666666666667,"d":"66.7"}},{"$f":"F42*C44/C42","v":{"v":0,"d":"0.0"}}]
[{"$nulls":3},{"$f":"D42*C44/C42","v":0},{"$f":"E42*C44/C42","v":{"v":66.66666666666667,"d":"66.7"}},{"$f":"F42*C44/C42","v":{"v":0,"d":"0.0"}}]

{"sheet":"ИТОГ ФР","index":20,"n_rows":35,"n_cols":5,"rows_kept":35,"merged":[[0,0,0,5],[1,2,1,3],[26,0,26,1],[26,2,26,5],[27,2,27,5],[28,2,28,5],[29,2,29,5],[30,2,30,5],[31,2,31,5],[32,2,32,5],[34,0,34,1],[34,2,34,5],[35,2,35,5],[36,2,36,5],[37,2,37,5],[38,2,38,5],[39,2,39,5],[40,2,40,5]]}
["Обобщение результатов педагогической диагностики по направлениям"]
[null,null,"ОО «Физическое развитие»"]
[]
[null,"ОГЛАВЛЕНИЕ","Основная гимнастика; подвижные и спортивные игры, спортивные упражнения","Формирование основ здорового образа жизни","Средний балл/уровень"]
[null,null,1,2,"ср.ур."]
[null,"начало",{"$f":"ФР!S31","v":{"v":1.5,"d":"1.50"}},{"$f":"ФР!AA31","v":{"v":1.6666666666666667,"d":"1.67"}},{"$f":"(C6+D6)/2","v":{"v":1.5833333333333335,"d":"1.58"}}]
[null,"конец",{"$f":"ФР!T31","v":{"v":2.2500000000000004,"d":"2.25"}},{"$f":"ФР!AB31","v":{"v":2.3333333333333335,"d":"2.33"}},{"$f":"(C7+D7)/2","v":{"v":2.291666666666667,"d":"2.29"}}]
{"$rows_empty":18}
["ВЫВОДЫ:"]
["Начало учебного года:"]
{"$rows_empty":7}
["Конец учебного года:"]

{"sheet":"ИТОГОВАЯ ПО ОО","index":21,"n_rows":86,"n_cols":8,"rows_kept":86,"merged":[[0,1,0,7],[1,1,1,7],[29,0,29,5],[30,0,30,7],[31,2,31,7],[35,2,35,7],[39,2,39,7],[40,2,40,7],[41,2,41,7],[42,2,42,7],[44,4,44,7],[52,4,52,7],[63,4,63,7],[74,4,74,7],[85,4,85,7],[86,4,86,7],[87,4,87,7],[88,4,88,7],[89,4,89,7],[90,4,90,7],[91,4,91,7],[92,4,92,7],[93,4,93,7],[94,4,94,7],[95,4,95,7]]}
[null,"Обобщение результатов педагогической диагностики по всем образовательным областям "]
[null," на 202__/2___ учебный год"]
[]
[null,"ОГЛАВЛЕНИЕ","Социально-­коммуникативное развитие","Познавательное развитие","Речевое развитие","Художественно­эстетическое развитие","Физическое развитие","Средний балл/уровень"]
[null,null,"СК","ПР","РР","ХЭР","ФР","ср.ур."]
[null,"начало",{"$f":"'ИТОГ СК'!G5","v":{"v":0.9146825396825395,"d":"0.91"}},{"$f":"'ИТОГ ПР'!F5","v":{"v":1.4452380952380952,"d":"1.45"}},{"$f":"'ИТОГ РР'!H6","v":{"v":1.29375,"d":"1.29"}},{"$f":"'ИТОГ ХЭ'!H6","v":{"v":0.7638888888888888,"d":"0.76"}},{"$f":"'ИТОГ ФР'!$E$6","v":{"v":1.5833333333333335,"d":"1.58"}},{"$f":"(C6+D6+E6+F6+G6)/5","v":{"v":1.2001785714285718,"d":"1.20"}}]
[null,"конец",{"$f":"'ИТОГ СК'!G6","v":{"v":1.3055555555555554,"d":"1.31"}},{"$f":"'ИТОГ ПР'!F6","v":{"v":2.000793650793651,"d":"2.00"}},{"$f":"'ИТОГ РР'!H7","v":{"v":1.5291666666666666,"d":"1.53"}},{"$f":"'ИТОГ ХЭ'!H7","v":{"v":1.0416666666666667,"d":"1.04"}},{"$f":"'ИТОГ ФР'!$E$7","v":{"v":2.291666666666667,"d":"2.29"}},{"$f":"(C7+D7+E7+F7+G7)/5","v":{"v":1.6337698412698416,"d":"1.63"}}]
{"$rows_empty":20}
[null,"Основные выводы по результатам педагогической диагностики"]
[]
["Педагогический процесс организован на ___________________________ уровне."]
["Следует обратить внимание на трудности реализации образовательной(-ых) области(-ей) «_________ развитие» в следующих аспектах:"]
["1."]
[]
[]
[]
["2."]
[]
[]
[]
["3."]
[]
[]
[]
["В индивидуальной помощи нуждаются следующие дети:"]
["1. «Речевое развитие»:"]
{"$rows_empty":7}
["2. «Познавательное развитие»:"]
{"$rows_empty":10}
["3. «Социально-коммуникативное развитие»: "]
{"$rows_empty":10}
["4. «Художественно-эстетическое развитие»:"]
{"$rows_empty":10}
["5. «Физическое развитие»: "]